BEGIN:VCALENDAR
PRODID:NingEventWidget-v1
VERSION:2.0
METHOD:PUBLISH
BEGIN:VTIMEZONE
TZID:Europe/Paris
X-LIC-LOCATION:Europe/Paris
BEGIN:DAYLIGHT
TZOFFSETFROM:+0100
TZOFFSETTO:+0200
TZNAME:CEST
DTSTART:19700329T020000
RRULE:FREQ=YEARLY;BYMONTH=3;BYDAY=-1SU
END:DAYLIGHT
BEGIN:STANDARD
TZOFFSETFROM:+0200
TZOFFSETTO:+0100
TZNAME:CET
DTSTART:19701025T030000
RRULE:FREQ=YEARLY;BYMONTH=10;BYDAY=-1SU
END:STANDARD
END:VTIMEZONE
BEGIN:VEVENT
UID:2485226:Event:2927760
DTSTAMP:20260421T085009Z
SUMMARY:Atelier confÃ©rence sur le tarot de Marseille
DESCRIPTION:L'association Lamibonheur vous propose un nouvel atelier s
 uivi pour ceux qui le dÃ©sire d'un repas ou chacun amÃ¨neÂ un plat Ã  
 partager Â les boissons sont fournis par l'association\nÂ \nINITIATION
  AU TAROT DE MARSEILLEÂ \nÂ \nLors de cetÂ ATELIERÂ CONFÃ‰RENCE\nÂ \nN
 ous ouvrirons les 22 portes du Tarot qui nous enseignent de la naissan
 ce Ã  22 ans, afin dÃ©couvrir celles qui ont un message Ã  vous donner
 .\nVous dÃ©couvrirez dans quelleÂ ANNÃ‰EÂ vous vous situez dans votreÂ
  THÃˆMEÂ deÂ NAISSANCEÂ et lÃ  oÃ¹ vous avez le choix de poser votre c
 onscience pourÂ 2018Â (annÃ©e 11) ... alors que nous venons de quitter
  2017 (annÃ©e 1)\nNous regarderons sur quelleÂ RESSOURCEÂ et qualitÃ© 
 de naissance vous pouvez vous appuyer.Â \nVenez avec votre jour et vot
 re mois de naissance ...\n\nJ'enseigne et je pratique l'ancien Tarot d
 e Marseille.Â \nTel que je m'en sers,Â il exclut la voyance et le divi
 natoire. Il est un outil holistiqueÂ qui permet de mieux vous connaÃ®t
 re. Vos potentiels trouvent leur Ã©mergence.\nLocation de la salle 4â‚
 ¬\n\n\nPour plus d'information, aller sur https://epanews.fr/events/at
 elier-conf-rence-sur-le-tarot-de-marseille
DTSTART;TZID=Europe/Paris:20180302T190000
DTEND;TZID=Europe/Paris:20180302T213000
CATEGORIES:83
LOCATION:83
WEBSITE:https://www.google.fr/maps/place/20+Rue+de+la+Martinique,+8320
 0+Toulon/@43.1356912,5.9003439,17z/data=!3m1!4b1!4m5!3m4!1s0x12c91b2bb
 7b72859:0x31c4f5c05ef08d52!8m2!3d43.1356912!4d5.9025379?hl=fr
URL:https://www.google.fr/maps/place/20+Rue+de+la+Martinique,+83200+To
 ulon/@43.1356912,5.9003439,17z/data=!3m1!4b1!4m5!3m4!1s0x12c91b2bb7b72
 859:0x31c4f5c05ef08d52!8m2!3d43.1356912!4d5.9025379?hl=fr
CONTACT:0661912800
ORGANIZER;CN="Patrick MALLET":https://epanews.fr/profile/mallet
ATTACH;FMTTYPE="image/jpeg":http://storage.ning.com/topology/rest/1.0/
 file/get/1663717325?profile=original
ATTENDEE;ROLE=REQ-PARTICIPANT;PARTSTAT=ACCEPTED;RSVP=TRUE;CN="Patrick 
 MALLET":https://epanews.fr/profile/mallet
ATTENDEE;ROLE=REQ-PARTICIPANT;PARTSTAT=TENTATIVE;RSVP=TRUE;CN=amarylli
 s:https://epanews.fr/profile/amaryllis37
END:VEVENT
END:VCALENDAR
