BEGIN:VCALENDAR
PRODID:NingEventWidget-v1
VERSION:2.0
METHOD:PUBLISH
BEGIN:VTIMEZONE
TZID:Europe/Paris
X-LIC-LOCATION:Europe/Paris
BEGIN:DAYLIGHT
TZOFFSETFROM:+0100
TZOFFSETTO:+0200
TZNAME:CEST
DTSTART:19700329T020000
RRULE:FREQ=YEARLY;BYMONTH=3;BYDAY=-1SU
END:DAYLIGHT
BEGIN:STANDARD
TZOFFSETFROM:+0200
TZOFFSETTO:+0100
TZNAME:CET
DTSTART:19701025T030000
RRULE:FREQ=YEARLY;BYMONTH=10;BYDAY=-1SU
END:STANDARD
END:VTIMEZONE
BEGIN:VEVENT
UID:2485226:Event:2095949
DTSTAMP:20260422T213011Z
SUMMARY:Atelier-confÃ©rence sur le Massage SensitifÂ® Ã  Pernes les Fo
 ntaines
DESCRIPTION:Le Massage Sensitif est bien plus qu'un massage traditionn
 el, il est un art de communiquer, un dialogue non-verbal entre un mass
 eur et un massÃ©. Il prend en compte le rythme du massÃ© qui devient a
 cteur de sa sÃ©ance. Il se pratique gÃ©nÃ©ralement avec de l'huile etÂ
   sur une tableÂ  mais pas seulement.Â  Il peut aussi se pratiquer hab
 illÃ©, debout ou assis et en tout lieu dans le respect de l'Ã©cologie 
 personnelle de chacun.\nL'entrÃ©e est libre mais le nombre de places e
 st limitÃ©e au nombre de tables, merci de rÃ©server au prÃ©alable.\n\n
 Pour plus d'information, aller sur https://epanews.fr/events/atelier-c
 onf-rence-sur-le-massage-sensitif-pernes-les-fontaines
DTSTART;TZID=Europe/Paris:20141112T190000
DTEND;TZID=Europe/Paris:20141112T210000
CATEGORIES:84
LOCATION:Pernes les Fontaines
WEBSITE:http://www.etre-en-chemin.com
URL:http://www.etre-en-chemin.com
CONTACT:06 86 98 37 66
ORGANIZER:Robert Coqueugniot et Catherine Cohen Hadria
ATTACH;FMTTYPE="image/jpeg":http://storage.ning.com/topology/rest/1.0/
 file/get/1663240227?profile=original
ATTENDEE;ROLE=REQ-PARTICIPANT;PARTSTAT=ACCEPTED;RSVP=TRUE;CN=Bob:https
 ://epanews.fr/profile/RobertCP
END:VEVENT
END:VCALENDAR
