BEGIN:VCALENDAR
PRODID:NingEventWidget-v1
VERSION:2.0
METHOD:PUBLISH
BEGIN:VTIMEZONE
TZID:Europe/Paris
X-LIC-LOCATION:Europe/Paris
BEGIN:DAYLIGHT
TZOFFSETFROM:+0100
TZOFFSETTO:+0200
TZNAME:CEST
DTSTART:19700329T020000
RRULE:FREQ=YEARLY;BYMONTH=3;BYDAY=-1SU
END:DAYLIGHT
BEGIN:STANDARD
TZOFFSETFROM:+0200
TZOFFSETTO:+0100
TZNAME:CET
DTSTART:19701025T030000
RRULE:FREQ=YEARLY;BYMONTH=10;BYDAY=-1SU
END:STANDARD
END:VTIMEZONE
BEGIN:VEVENT
UID:2485226:Event:2992966
DTSTAMP:20260424T194339Z
SUMMARY:Atelier: Comprendre, repÃ©rer et dÃ©samorcer les jeux de pouvo
 ir
DESCRIPTION:Comment et pourquoi un jeu de pouvoir se met il en place Ã
   notre insu, malgrÃ© nos bonnes intentions? Comment le repÃ©rer? Et e
 nfin, comment le dÃ©samorcer avec la mÃ©thode IFS?Â \n\nPour plus d'in
 formation, aller sur https://epanews.fr/events/atelier-comprendre-rep-
 rer-et-d-samorcer-les-jeux-de-pouvoir
DTSTART;TZID=Europe/Paris:20181130T150000
DTEND;TZID=Europe/Paris:20181130T180000
CATEGORIES:83
LOCATION:TOULON
WEBSITE:
URL:
CONTACT:07 62 23 60 29
ORGANIZER;CN=Corinne:https://epanews.fr/profile/Francoise519
ATTACH;FMTTYPE="image/jpeg":
ATTENDEE;ROLE=REQ-PARTICIPANT;PARTSTAT=ACCEPTED;RSVP=TRUE;CN=Corinne:h
 ttps://epanews.fr/profile/Francoise519
END:VEVENT
END:VCALENDAR
