BEGIN:VCALENDAR
PRODID:NingEventWidget-v1
VERSION:2.0
METHOD:PUBLISH
BEGIN:VTIMEZONE
TZID:Europe/Paris
X-LIC-LOCATION:Europe/Paris
BEGIN:DAYLIGHT
TZOFFSETFROM:+0100
TZOFFSETTO:+0200
TZNAME:CEST
DTSTART:19700329T020000
RRULE:FREQ=YEARLY;BYMONTH=3;BYDAY=-1SU
END:DAYLIGHT
BEGIN:STANDARD
TZOFFSETFROM:+0200
TZOFFSETTO:+0100
TZNAME:CET
DTSTART:19701025T030000
RRULE:FREQ=YEARLY;BYMONTH=10;BYDAY=-1SU
END:STANDARD
END:VTIMEZONE
BEGIN:VEVENT
UID:2485226:Event:521649
DTSTAMP:20260422T170835Z
SUMMARY:Atelier \"communication vraie \" à Cadenet
DESCRIPTION:Un atelier de communication sur 4 soirées de 19h30 à 22h
 30 à Cadenet à partir du lundi 19/9: un outil concret pour apprendre
  à créer des relations saines, à mettre des mots sur ses ressentis,
  à saffirmer et à écouter sans s'oublier!Plus d'infos sur le site: 
 www.universdupossible.com\n\nPour plus d'information, aller sur https:
 //epanews.fr/events/atelier-communication-vraie-cadenet
DTSTART;TZID=Europe/Paris:20110919T190000
DTEND;TZID=Europe/Paris:20110919T200000
CATEGORIES:13
LOCATION:Aix en Provence
WEBSITE:http://www.universdupossible.com
URL:http://www.universdupossible.com
CONTACT:0033/6 19 10 06 88
ORGANIZER:L'Univers du Possible
ATTACH;FMTTYPE="image/jpeg":http://storage.ning.com/topology/rest/1.0/
 file/get/1662455057?profile=original
ATTENDEE;ROLE=REQ-PARTICIPANT;PARTSTAT=ACCEPTED;RSVP=TRUE;CN="Vandezan
 de Anne":https://epanews.fr/profile/VandezandeAnne
END:VEVENT
END:VCALENDAR
