BEGIN:VCALENDAR
PRODID:NingEventWidget-v1
VERSION:2.0
METHOD:PUBLISH
BEGIN:VTIMEZONE
TZID:Europe/Paris
X-LIC-LOCATION:Europe/Paris
BEGIN:DAYLIGHT
TZOFFSETFROM:+0100
TZOFFSETTO:+0200
TZNAME:CEST
DTSTART:19700329T020000
RRULE:FREQ=YEARLY;BYMONTH=3;BYDAY=-1SU
END:DAYLIGHT
BEGIN:STANDARD
TZOFFSETFROM:+0200
TZOFFSETTO:+0100
TZNAME:CET
DTSTART:19701025T030000
RRULE:FREQ=YEARLY;BYMONTH=10;BYDAY=-1SU
END:STANDARD
END:VTIMEZONE
BEGIN:VEVENT
UID:2485226:Event:2724221
DTSTAMP:20260424T200717Z
SUMMARY:Atelier : \" Comment trouver sa Mission de Vie \"
DESCRIPTION:Comment découvrir sa Mission de vie ? Je vous propose, po
 ur ce faire, tout d’abord une méditation qui permettra de faire res
 urgir les souvenirs enfouis et les signes oubliés de notre Vie.\nEn d
 euxième partie, par petits groupes, chacun s'aidera à faire jaillir 
 ses qualités reçus, les événements marquants permettant de mettre 
 en valeur et de mettre à jour cette Mission de Vie.\nParticipation: 2
 5 €\n\nPour plus d'information, aller sur https://epanews.fr/events/
 atelier-comment-trouver-sa-mission-de-vie-1
DTSTART;TZID=Europe/Paris:20161127T141500
DTEND;TZID=Europe/Paris:20161127T180000
CATEGORIES:75
LOCATION:BAT A, Interphone 3, 2eme étage Droite
WEBSITE:https://www.google.fr/maps/place/22+Rue+de+Douai,+75009+Paris/
 @48.8821273,2.3319751,17z/data=!4m5!3m4!1s0x47e66e4f48340db3:0x398333f
 34efe240c!8m2!3d48.8821238!4d2.3341638
URL:https://www.google.fr/maps/place/22+Rue+de+Douai,+75009+Paris/@48.
 8821273,2.3319751,17z/data=!4m5!3m4!1s0x47e66e4f48340db3:0x398333f34ef
 e240c!8m2!3d48.8821238!4d2.3341638
CONTACT:0662602608
ORGANIZER;CN=HUMBERT:https://epanews.fr/profile/HUMBERT
ATTACH;FMTTYPE="image/jpeg":http://storage.ning.com/topology/rest/1.0/
 file/get/1663613559?profile=original
ATTENDEE;ROLE=REQ-PARTICIPANT;PARTSTAT=ACCEPTED;RSVP=TRUE;CN=HUMBERT:h
 ttps://epanews.fr/profile/HUMBERT
END:VEVENT
END:VCALENDAR
