BEGIN:VCALENDAR
PRODID:NingEventWidget-v1
VERSION:2.0
METHOD:PUBLISH
BEGIN:VTIMEZONE
TZID:Europe/Paris
X-LIC-LOCATION:Europe/Paris
BEGIN:DAYLIGHT
TZOFFSETFROM:+0100
TZOFFSETTO:+0200
TZNAME:CEST
DTSTART:19700329T020000
RRULE:FREQ=YEARLY;BYMONTH=3;BYDAY=-1SU
END:DAYLIGHT
BEGIN:STANDARD
TZOFFSETFROM:+0200
TZOFFSETTO:+0100
TZNAME:CET
DTSTART:19701025T030000
RRULE:FREQ=YEARLY;BYMONTH=10;BYDAY=-1SU
END:STANDARD
END:VTIMEZONE
BEGIN:VEVENT
UID:2485226:Event:2148707
DTSTAMP:20260425T160051Z
SUMMARY:Atelier : Comment gérer la colère ?
DESCRIPTION:Cet atelier vous aidera à découvrir pourquoi vous vous m
 ettez en colère contre vous-même, contre les autres ou même contre 
 des situations. Vous apprendrez à exprimer vos désirs, vos besoins s
 ans agressivité.\nDétails et inscriptions : http://www.centreinstant
 present.fr/\n\nPour plus d'information, aller sur https://epanews.fr/e
 vents/atelier-comment-g-rer-la-col-re-1
DTSTART;TZID=Europe/Paris:20150124T140000
DTEND;TZID=Europe/Paris:20150124T170000
CATEGORIES:34
LOCATION:Montpellier (Quartier Boutonnet, Tram 1 et 4 : Albert 1er)
WEBSITE:http://www.centreinstantpresent.fr/
URL:http://www.centreinstantpresent.fr/
CONTACT:0618674408
ORGANIZER;CN="Simone Lalande":https://epanews.fr/profile/SimoneLalande
ATTACH;FMTTYPE="image/jpeg":http://storage.ning.com/topology/rest/1.0/
 file/get/1663276885?profile=original
ATTENDEE;ROLE=REQ-PARTICIPANT;PARTSTAT=ACCEPTED;RSVP=TRUE;CN="Simone L
 alande":https://epanews.fr/profile/SimoneLalande
END:VEVENT
END:VCALENDAR
