BEGIN:VCALENDAR
PRODID:NingEventWidget-v1
VERSION:2.0
METHOD:PUBLISH
BEGIN:VTIMEZONE
TZID:Europe/Paris
X-LIC-LOCATION:Europe/Paris
BEGIN:DAYLIGHT
TZOFFSETFROM:+0100
TZOFFSETTO:+0200
TZNAME:CEST
DTSTART:19700329T020000
RRULE:FREQ=YEARLY;BYMONTH=3;BYDAY=-1SU
END:DAYLIGHT
BEGIN:STANDARD
TZOFFSETFROM:+0200
TZOFFSETTO:+0100
TZNAME:CET
DTSTART:19701025T030000
RRULE:FREQ=YEARLY;BYMONTH=10;BYDAY=-1SU
END:STANDARD
END:VTIMEZONE
BEGIN:VEVENT
UID:2485226:Event:2652404
DTSTAMP:20260421T165021Z
SUMMARY:Atelier collectif de sophrologie
DESCRIPTION:Nouveau sur Camps la Source, dans cadre verdoyant, partici
 pez à un atelier collectif de Sophrologie en pleine nature.\n15€ le
 s 2 heures\nUn plan d'accès vous sera envoyé à l'inscription\n\nPou
 r plus d'information, aller sur https://epanews.fr/events/atelier-coll
 ectif-de-sophrologie-1
DTSTART;TZID=Europe/Paris:20160625T093000
DTEND;TZID=Europe/Paris:20160625T113000
CATEGORIES:83
LOCATION:CAMPS LA SOURCE
WEBSITE:
URL:
CONTACT:06.50.56.41.32
ORGANIZER;CN="Sophrologie Reiki EFT":https://epanews.fr/profile/Sophro
 logieReikiEFT
ATTACH;FMTTYPE="image/jpeg":http://storage.ning.com/topology/rest/1.0/
 file/get/1663570573?profile=original
ATTENDEE;ROLE=REQ-PARTICIPANT;PARTSTAT=ACCEPTED;RSVP=TRUE;CN="Sophrolo
 gie Reiki EFT":https://epanews.fr/profile/SophrologieReikiEFT
END:VEVENT
END:VCALENDAR
