BEGIN:VCALENDAR
PRODID:NingEventWidget-v1
VERSION:2.0
METHOD:PUBLISH
BEGIN:VTIMEZONE
TZID:Europe/Paris
X-LIC-LOCATION:Europe/Paris
BEGIN:DAYLIGHT
TZOFFSETFROM:+0100
TZOFFSETTO:+0200
TZNAME:CEST
DTSTART:19700329T020000
RRULE:FREQ=YEARLY;BYMONTH=3;BYDAY=-1SU
END:DAYLIGHT
BEGIN:STANDARD
TZOFFSETFROM:+0200
TZOFFSETTO:+0100
TZNAME:CET
DTSTART:19701025T030000
RRULE:FREQ=YEARLY;BYMONTH=10;BYDAY=-1SU
END:STANDARD
END:VTIMEZONE
BEGIN:VEVENT
UID:2485226:Event:2309367
DTSTAMP:20260423T125526Z
SUMMARY:Atelier - CofÃ©rence : Le Bonheur, c'est quoi ?
DESCRIPTION:Le bonheur est l'une de nos plus belles richesses, l'une d
 e nos plus belles conquÃªtes. Pour Ãªtre Â«Â heureuxÂ Â» il faudrait d
 â€™abords comprendre qui il estÂ ! Et il ne faut pas grand-chose pour 
 comprendre, vous verrezâ€¦\nMoi, un jour, jâ€™ai fait la Â«Â connaissa
 nceÂ Â» de la Â«Â psychologie positiveÂ Â». Et ce concept affirme quâ€
 ™Ãªtre heureuse se dÃ©cide et sâ€™apprend. Alors ce jour-lÃ , jâ€™ai d
 Ã©cidÃ© dâ€™Ãªtre heureuseÂ !Â \nÂ«Â Si vous voulez Ãªtre heureux, soy
 ez-leÂ ! Â». Jâ€™aime beaucoup cette phrase de TolstoÃ¯, convaincue qu
 e notre bonheur dÃ©pend beaucoup de nous. A mÃ©diterâ€¦\nParticipation
  LIBRE !\nLIEU: 27 bis ch. fin de siÃ¨cle 34300 Le Grau d'Agde\nInscri
 ption Indispensable: 06.21.51.40.73\n\nPour plus d'information, aller 
 sur https://epanews.fr/events/atelier-cof-rence-le-bonheur-c-est-quoi
DTSTART;TZID=Europe/Paris:20150504T180000
DTEND;TZID=Europe/Paris:20150504T200000
CATEGORIES:34
LOCATION:Le Grau d'Agde
WEBSITE:http://magnetisme34.canalblog.com/
URL:http://magnetisme34.canalblog.com/
CONTACT:0621514073
ORGANIZER;CN="Nathalie Arboux-EnergÃ©ticienne":https://epanews.fr/prof
 ile/ARBOUXNathalie
ATTACH;FMTTYPE="image/jpeg":http://storage.ning.com/topology/rest/1.0/
 file/get/1663383330?profile=original
ATTENDEE;ROLE=REQ-PARTICIPANT;PARTSTAT=ACCEPTED;RSVP=TRUE;CN="Nathalie
  Arboux-EnergÃ©ticienne":https://epanews.fr/profile/ARBOUXNathalie
END:VEVENT
END:VCALENDAR
