BEGIN:VCALENDAR
PRODID:NingEventWidget-v1
VERSION:2.0
METHOD:PUBLISH
BEGIN:VTIMEZONE
TZID:Europe/Paris
X-LIC-LOCATION:Europe/Paris
BEGIN:DAYLIGHT
TZOFFSETFROM:+0100
TZOFFSETTO:+0200
TZNAME:CEST
DTSTART:19700329T020000
RRULE:FREQ=YEARLY;BYMONTH=3;BYDAY=-1SU
END:DAYLIGHT
BEGIN:STANDARD
TZOFFSETFROM:+0200
TZOFFSETTO:+0100
TZNAME:CET
DTSTART:19701025T030000
RRULE:FREQ=YEARLY;BYMONTH=10;BYDAY=-1SU
END:STANDARD
END:VTIMEZONE
BEGIN:VEVENT
UID:2485226:Event:2774250
DTSTAMP:20260422T222321Z
SUMMARY:Atelier \"Chuuut Respire et MÃ©dite\"
DESCRIPTION:\"Viens Prends tremplin sur le tapis volant de ta Respirat
 ion Laisse passer les nuages de tes pensÃ©es  sans discuter Reviens Ã 
  ta respiration Ouvre l' espace de tes sensations Accueille Comme l' a
 rbre de la forÃªt offre Ã  tous ses visiteurs Tendresse et HospitalitÃ
 © Nourris ton intÃ©rieur Cultive les plus belles fleurs aux milles cou
 leurs Laisse le calme te visiter L' apaisement s' installer L' Arc-en-
 ciel se dÃ©ployer Un chemin se dessiner Chuuuttt ...\" Anne Candau\n\n
 Pour plus d'information, aller sur https://epanews.fr/events/atelier-c
 huut-respire-medite
DTSTART;TZID=Europe/Paris:20170120T190000
DTEND;TZID=Europe/Paris:20170120T210000
CATEGORIES:75
LOCATION:Centre Culturel St Roch
WEBSITE:https://www.facebook.com/events/742981795867045/
URL:https://www.facebook.com/events/742981795867045/
CONTACT:
ORGANIZER;CN=Tractatrix:https://epanews.fr/profile/Tractatrix
ATTACH;FMTTYPE="image/jpeg":http://storage.ning.com/topology/rest/1.0/
 file/get/1663635000?profile=original
ATTENDEE;ROLE=REQ-PARTICIPANT;PARTSTAT=ACCEPTED;RSVP=TRUE;CN=Tractatri
 x:https://epanews.fr/profile/Tractatrix
END:VEVENT
END:VCALENDAR
