BEGIN:VCALENDAR
PRODID:NingEventWidget-v1
VERSION:2.0
METHOD:PUBLISH
BEGIN:VTIMEZONE
TZID:Europe/Paris
X-LIC-LOCATION:Europe/Paris
BEGIN:DAYLIGHT
TZOFFSETFROM:+0100
TZOFFSETTO:+0200
TZNAME:CEST
DTSTART:19700329T020000
RRULE:FREQ=YEARLY;BYMONTH=3;BYDAY=-1SU
END:DAYLIGHT
BEGIN:STANDARD
TZOFFSETFROM:+0200
TZOFFSETTO:+0100
TZNAME:CET
DTSTART:19701025T030000
RRULE:FREQ=YEARLY;BYMONTH=10;BYDAY=-1SU
END:STANDARD
END:VTIMEZONE
BEGIN:VEVENT
UID:2485226:Event:2327520
DTSTAMP:20260422T210334Z
SUMMARY:Atelier Chamanique de guÃ©rison avancÃ©: La terre dans tout se
 s Ã©tats
DESCRIPTION:Notre mÃ¨re terre est aussi initiatique et formatrice que 
 notre famille, les humains et les animaux, grÃ¢ce aux myriades d'Ã©vol
 utions possibles qu'elle prÃ©sente.  Elle nous permet de faire des exp
 Ã©riences dans Sa matiÃ¨re, pour l'Ã©volution des consciences humaines
 , nous aidant Ã  notre croissance personnelle et spirituelle, jusqu'Ã 
  ce que l'humanitÃ© prenne conscience qu'elle est elle-mÃªme, crÃ©atri
 ce en puissance, comme l'est Notre CrÃ©ateur.  Durant cet atelier nous
  utiliserons la terre et les diffÃ©rents Ã©lÃ©ments qui la constituent
  pour notre propre guÃ©rison et celle de notre mÃ¨re terre.  Nous vivr
 ons, des nettoyages, des purifications avec lâ€™aide des 4 Ã©lÃ©ments,
  des animaux, de la faune et de la flore, des Ã©lÃ©mentaux et des huma
 ins.  Nous recontacterons des mÃ©moires afin de pouvoir nous en libÃ©r
 er et permettre ainsi une guÃ©rison spirituelle au niveau du corps et 
 de lâ€™esprit afin de permettre une transformation au niveau des consc
 iences.\n Nous ferons un trÃ¨s beau voyage chamanique aux baleines pou
 r la guÃ©rison des blessures et des mÃ©moires intra-utÃ©rines. Nous pa
 sserons ce we Ã  faire des expÃ©riences chamaniques de haut niveau, av
 ec tous les Ã©lÃ©ments de la terre, des nettoyages profonds de mÃ©moir
 es obsolÃ¨tes et des guÃ©risons qui vous permettront de faire Ã©merger
  les meilleurs aspects de vous-mÃªme.   Les augmentations de conscienc
 es, les Ã©volutions reÃ§ues durant cet atelier, grÃ¢ce au concours de 
 tous les Ã©lÃ©ments qui composent notre terre mÃ¨re, mais aussi de la 
 faune, la flore, les Ã©lÃ©mentaux, en fait, tous ceux qui nous auront 
 aidÃ©s durant ces 2 jours seront remerciÃ©s grÃ¢ce Ã  un rituel de guÃ
 ©rison pour la Terre MÃ¨re.  PAF : : 240â‚¬ et pour celui qui le recom
 mence 120â‚¬. Acompte 120â‚¬.\nÂ Â Â   Week-end du 30 et 31 mai 2015 d
 e 10h Ã  18h.\nÂ \nLieu : Salle Ã  prÃ©voir en Province de LiÃ¨ge.\nFr
 ancisco-FÃ©lix donne 4 types de soins Holistiques,Â Â   Ateliers dÃ©co
 uverte de soirÃ©e et ateliers en un week-end: Chamanisme de base et at
 eliers avancÃ©s de guÃ©risons Ps: pour les ateliers chamaniques avancÃ
 ©s il faut avoir fait lâ€™atelier de base. Soins privÃ©s sur rendez-vo
 us Â· Infos et rÃ©servations: www.belame.comÂ Â \nTÃ©lÂ  087 70 47 95 
 -Â  gsm 0477 46 73 18\n\nPour plus d'information, aller sur https://ep
 anews.fr/events/atelier-chamanique-de-gu-rison-avanc-la-terre-dans-tou
 t-ses-tats
DTSTART;TZID=Europe/Paris:20150530T180000
DTEND;TZID=Europe/Paris:20150531T190000
CATEGORIES:tous
LOCATION:RÃ©gion LiÃ¨ge
WEBSITE:http://www.belame.com
URL:http://www.belame.com
CONTACT:0477467318
ORGANIZER;CN="MOLINA DA-COSTA Francisco-FÃ©lix":https://epanews.fr/pro
 file/MOLINADACOSTAFranciscoFelix
ATTACH;FMTTYPE="image/jpeg":
ATTENDEE;ROLE=REQ-PARTICIPANT;PARTSTAT=ACCEPTED;RSVP=TRUE;CN="MOLINA D
 A-COSTA Francisco-FÃ©lix":https://epanews.fr/profile/MOLINADACOSTAFran
 ciscoFelix
END:VEVENT
END:VCALENDAR
