BEGIN:VCALENDAR
PRODID:NingEventWidget-v1
VERSION:2.0
METHOD:PUBLISH
BEGIN:VTIMEZONE
TZID:Europe/Paris
X-LIC-LOCATION:Europe/Paris
BEGIN:DAYLIGHT
TZOFFSETFROM:+0100
TZOFFSETTO:+0200
TZNAME:CEST
DTSTART:19700329T020000
RRULE:FREQ=YEARLY;BYMONTH=3;BYDAY=-1SU
END:DAYLIGHT
BEGIN:STANDARD
TZOFFSETFROM:+0200
TZOFFSETTO:+0100
TZNAME:CET
DTSTART:19701025T030000
RRULE:FREQ=YEARLY;BYMONTH=10;BYDAY=-1SU
END:STANDARD
END:VTIMEZONE
BEGIN:VEVENT
UID:2485226:Event:2840780
DTSTAMP:20260420T135633Z
SUMMARY:Atelier chakras
DESCRIPTION:Atelier sur les chakras le samedi 17 juin 2017 de 13:50 à
  15:30.Au (métro Nation)inscription pour recevoir l'adresse et le cod
 e(inscription obligatoire nombre de place limitée) NETTOYAGE AVEC LE
 S SONSEQUILIBRER LES CHAKRAS AVEC LES PIERRES.GUERISON DES CHAKRAS AVE
 C LES PIERRESParticipation libre\n\nPour plus d'information, aller sur
  https://epanews.fr/events/atelier-chakras-2
DTSTART;TZID=Europe/Paris:20170617T140000
DTEND;TZID=Europe/Paris:20170617T153000
CATEGORIES:75
LOCATION:paris
WEBSITE:http://penseecreatrice.pagesperso-orange.fr
URL:http://penseecreatrice.pagesperso-orange.fr
CONTACT:06-77-71-49-35
ORGANIZER;CN=tnt76:https://epanews.fr/profile/tnt76
ATTACH;FMTTYPE="image/jpeg":http://storage.ning.com/topology/rest/1.0/
 file/get/1663672477?profile=original
ATTENDEE;ROLE=REQ-PARTICIPANT;PARTSTAT=ACCEPTED;RSVP=TRUE;CN=tnt76:htt
 ps://epanews.fr/profile/tnt76
END:VEVENT
END:VCALENDAR
