BEGIN:VCALENDAR
PRODID:NingEventWidget-v1
VERSION:2.0
METHOD:PUBLISH
BEGIN:VTIMEZONE
TZID:Europe/Paris
X-LIC-LOCATION:Europe/Paris
BEGIN:DAYLIGHT
TZOFFSETFROM:+0100
TZOFFSETTO:+0200
TZNAME:CEST
DTSTART:19700329T020000
RRULE:FREQ=YEARLY;BYMONTH=3;BYDAY=-1SU
END:DAYLIGHT
BEGIN:STANDARD
TZOFFSETFROM:+0200
TZOFFSETTO:+0100
TZNAME:CET
DTSTART:19701025T030000
RRULE:FREQ=YEARLY;BYMONTH=10;BYDAY=-1SU
END:STANDARD
END:VTIMEZONE
BEGIN:VEVENT
UID:2485226:Event:2117561
DTSTAMP:20260425T122750Z
SUMMARY:Atelier Chakradance - Ancrage, Vitalite et Instincts
DESCRIPTION:Cet atelier consacré au Chakra Racine nous invite à reno
 uer avec nos origines, avec la Terre Mère, avec nos instincts primiti
 fs et notre énergie vitale. Un voyage en mouvement et musique pour mi
 eux s'ancrer, contacter sa sécurité intérieure et retrouver sa vita
 lité.\nCréé et développé en Australie depuis plus de 10 ans, CHAK
 RADANCE associe mouvement libre, musique en résonance avec chaque cha
 kra, imagerie guidée et dessin d’un mandala pour aider chacun à re
 connecter avec sa véritable essence.Chakradance France\n\nPour plus d
 'information, aller sur https://epanews.fr/events/atelier-chakradance-
 ancrage-vitalite-et-instincts
DTSTART;TZID=Europe/Paris:20141214T110000
DTEND;TZID=Europe/Paris:20141214T170000
CATEGORIES:75
LOCATION:ELEPHANT PANAME (Centre d'Art et de Danse)
WEBSITE:http://www.elephantpaname.com
URL:http://www.elephantpaname.com
CONTACT:0689644129
ORGANIZER;CN="Veronique Thomann":https://epanews.fr/profile/VeroniqueT
 homann
ATTACH;FMTTYPE="image/jpeg":http://storage.ning.com/topology/rest/1.0/
 file/get/1663252323?profile=original
ATTENDEE;ROLE=REQ-PARTICIPANT;PARTSTAT=ACCEPTED;RSVP=TRUE;CN="Veroniqu
 e Thomann":https://epanews.fr/profile/VeroniqueThomann
END:VEVENT
END:VCALENDAR
