BEGIN:VCALENDAR
PRODID:NingEventWidget-v1
VERSION:2.0
METHOD:PUBLISH
BEGIN:VTIMEZONE
TZID:Europe/Paris
X-LIC-LOCATION:Europe/Paris
BEGIN:DAYLIGHT
TZOFFSETFROM:+0100
TZOFFSETTO:+0200
TZNAME:CEST
DTSTART:19700329T020000
RRULE:FREQ=YEARLY;BYMONTH=3;BYDAY=-1SU
END:DAYLIGHT
BEGIN:STANDARD
TZOFFSETFROM:+0200
TZOFFSETTO:+0100
TZNAME:CET
DTSTART:19701025T030000
RRULE:FREQ=YEARLY;BYMONTH=10;BYDAY=-1SU
END:STANDARD
END:VTIMEZONE
BEGIN:VEVENT
UID:2485226:Event:1122031
DTSTAMP:20260421T114946Z
SUMMARY:Atelier Cercles de Vie
DESCRIPTION:Libérations des croyances limitatrices afin de Pouvoir Ex
 primer pleinement la Vie Sacrée en Soi à partir de 12 février 2013
 « Se reconnecter à notre Essence, à notre Pouvoir personnel afin de
  vivre en Harmonie avec soi-même et les autres dans tous les plans d
 e notre VIE” Le but de ces ateliers bi‐mensuels est d’accompagn
 er lesparticipantes à: \n‐Acquérir une meilleure connaissance d
 Elles‐mêmes(physique,énergétique,spirituelle). ‐ Se libérer 
 des traumatismes passés (avant la naissance, lors de la vie intra‐u
 térine, après la naissance etc…). ‐ Développer Les Forces (aut
 o‐guérison, sagesse, intuition, Amour), qui sont latentes en Elles
 . ‐Développer, renforcer ou retrouver la Confiance en Soi.- Récup
 érer son pouvoir. ‐Développer la créativité. ‐Trouver et con
 server l’équilibre psychique,corporel,énergétique et spirituel. 
 ‐Découvrir leurs corps (physique et subtils) à travers les différ
 ents sens physiques et subtils. ‐Assumer complètement Sa Féminit
  et sa Polarité masculine. “Ces rencontres permettent de s’expr
 imer, de partager et de se sentir soutenues par l’ensemble du group
 e. Elles permettent d’Exister d’une façon Holistique.” Les out
 ils employés :- La méditation- La sophro-relaxation énergétique- L
 a danse intuitive- Le yoga du son- SonothérapieLieu des rencontres: 
 L’atelier est situé dans le 4ème arrondissement de Paris(Châtelet
  Les Halles). Fréquence des rencontres: Les mardis, deux fois par m
 ois, de 19H30  à 21h15 de Février 2013 à fin juin 2013 soit 10 ses
 sions. Pour le Bien être des participantes et pour un suivi personna
 lisé le nombre de participante est limité Inscription : par télép
 hone au 0652110071 ou par mail à therapeute.holistique@gmail.com Ta
 rifs: 25 euros la session Possibilité d’acheter une carte de 10 s
 ances à 200 euros. Clôture des Inscriptions le 24 janvier 2013 Il
  est conseiller de porter une tenue confortable et de vous munir d'un 
 châle ou d'un plaid.A très bientôt,Naty Davillars\n\n\nCercles de V
 ie\n\nPour plus d'information, aller sur https://epanews.fr/events/ate
 lier-cercles-de-vie
DTSTART;TZID=Europe/Paris:20130212T193000
DTEND;TZID=Europe/Paris:20130212T211500
CATEGORIES:75004
LOCATION:Paris 4ème
WEBSITE:
URL:
CONTACT:06 52 00 11 71
ORGANIZER;CN="Naty Davillars":https://epanews.fr/profile/NatyDavillars
ATTACH;FMTTYPE="image/jpeg":http://storage.ning.com/topology/rest/1.0/
 file/get/1662737190?profile=original
ATTENDEE;ROLE=REQ-PARTICIPANT;PARTSTAT=ACCEPTED;RSVP=TRUE;CN="Naty Dav
 illars":https://epanews.fr/profile/NatyDavillars
END:VEVENT
END:VCALENDAR
