BEGIN:VCALENDAR
PRODID:NingEventWidget-v1
VERSION:2.0
METHOD:PUBLISH
BEGIN:VTIMEZONE
TZID:Europe/Paris
X-LIC-LOCATION:Europe/Paris
BEGIN:DAYLIGHT
TZOFFSETFROM:+0100
TZOFFSETTO:+0200
TZNAME:CEST
DTSTART:19700329T020000
RRULE:FREQ=YEARLY;BYMONTH=3;BYDAY=-1SU
END:DAYLIGHT
BEGIN:STANDARD
TZOFFSETFROM:+0200
TZOFFSETTO:+0100
TZNAME:CET
DTSTART:19701025T030000
RRULE:FREQ=YEARLY;BYMONTH=10;BYDAY=-1SU
END:STANDARD
END:VTIMEZONE
BEGIN:VEVENT
UID:2485226:Event:904145
DTSTAMP:20260422T035107Z
SUMMARY:atelier carnet de voyage
DESCRIPTION:Une journée pour se faire plaisir et aborder le dessin fa
 çon \"carnet de voyage\". Accessible aux débutants et artistes confi
 rmés... Etre muni d'un carnet et d'un feutre suffit pour commencer l'
 aventure! Toutes les infos sur mon site, me contacter pour plus de ren
 seignements.\nLa journée 50€, possibilité de forfait : 3 ateliers 
 à 40€\n\n\nPour plus d'information, aller sur https://epanews.fr/ev
 ents/atelier-carnet-de-voyage-10
DTSTART;TZID=Europe/Paris:20120826T100000
DTEND;TZID=Europe/Paris:20120826T170000
CATEGORIES:13, 83, 84
LOCATION:Bonnieux 84 - départ petit route des cèdres
WEBSITE:http://quatrinaime.free.fr
URL:http://quatrinaime.free.fr
CONTACT:06 28 06 90 10
ORGANIZER;CN=quatrinaime:https://epanews.fr/profile/quatrinaime
ATTACH;FMTTYPE="image/jpeg":http://storage.ning.com/topology/rest/1.0/
 file/get/1662645287?profile=original
ATTENDEE;ROLE=REQ-PARTICIPANT;PARTSTAT=ACCEPTED;RSVP=TRUE;CN=quatrinai
 me:https://epanews.fr/profile/quatrinaime
END:VEVENT
END:VCALENDAR
