BEGIN:VCALENDAR
PRODID:NingEventWidget-v1
VERSION:2.0
METHOD:PUBLISH
BEGIN:VTIMEZONE
TZID:Europe/Paris
X-LIC-LOCATION:Europe/Paris
BEGIN:DAYLIGHT
TZOFFSETFROM:+0100
TZOFFSETTO:+0200
TZNAME:CEST
DTSTART:19700329T020000
RRULE:FREQ=YEARLY;BYMONTH=3;BYDAY=-1SU
END:DAYLIGHT
BEGIN:STANDARD
TZOFFSETFROM:+0200
TZOFFSETTO:+0100
TZNAME:CET
DTSTART:19701025T030000
RRULE:FREQ=YEARLY;BYMONTH=10;BYDAY=-1SU
END:STANDARD
END:VTIMEZONE
BEGIN:VEVENT
UID:2485226:Event:2174121
DTSTAMP:20260422T172141Z
SUMMARY:Atelier Bonheur et Rire
DESCRIPTION:Pour bien démarrer cette nouvelle année dans la joie et 
 la bonne humeur, je vous propose de venir découvrir l'atelier \"Bonhe
 ur et rire\"\nVenez retrouver votre joie naturelle et spontanée par l
 e jeu, le rire, la créativité, la relaxation ( yoga du rire, sophrol
 ogie ludique, jeux de rôle, méditation du rire, relaxation guidée..
 .\nUn moment de partage pour faire le plein d'énergies positives et r
 elâcher votre stress\n\n\nPour plus d'information, aller sur https://
 epanews.fr/events/atelier-bonheur-et-rire
DTSTART;TZID=Europe/Paris:20150121T180000
DTEND;TZID=Europe/Paris:20150121T193000
CATEGORIES:84
LOCATION:Centre B.ATTITUDE
WEBSITE:http://www.b-attitude .fr
URL:http://www.b-attitude .fr
CONTACT:0612896343
ORGANIZER:Martine BERUD
ATTACH;FMTTYPE="image/jpeg":
ATTENDEE;ROLE=REQ-PARTICIPANT;PARTSTAT=ACCEPTED;RSVP=TRUE;CN=Michèle:
 https://epanews.fr/profile/ZAMBRINIMichele
END:VEVENT
END:VCALENDAR
