BEGIN:VCALENDAR
PRODID:NingEventWidget-v1
VERSION:2.0
METHOD:PUBLISH
BEGIN:VTIMEZONE
TZID:Europe/Paris
X-LIC-LOCATION:Europe/Paris
BEGIN:DAYLIGHT
TZOFFSETFROM:+0100
TZOFFSETTO:+0200
TZNAME:CEST
DTSTART:19700329T020000
RRULE:FREQ=YEARLY;BYMONTH=3;BYDAY=-1SU
END:DAYLIGHT
BEGIN:STANDARD
TZOFFSETFROM:+0200
TZOFFSETTO:+0100
TZNAME:CET
DTSTART:19701025T030000
RRULE:FREQ=YEARLY;BYMONTH=10;BYDAY=-1SU
END:STANDARD
END:VTIMEZONE
BEGIN:VEVENT
UID:2485226:Event:992138
DTSTAMP:20260424T030631Z
SUMMARY:atelier bols tibétains et voix avec Céline Peltier musicoth
 rapeute et massages aux bols chantants
DESCRIPTION: \nCéline Peltier vous propose un atelier autour des bol
 s chantants et de la voix\ncelinepeltier516@gmail.com\nwww.musicothera
 pie-celinepeltier.com\nLe matin:\n-Présentation de tout le groupe, me
 ditation en chanson ( mantra indien “ong namo guru dev namo”)\n-Pr
 ésentation des bols tibétains , découverte de la technique de massa
 ge.\n\ntravail de la voix avec les bols le corps et le groupe\n\n\nexe
 rcices pratiques partage échange\naprès-midi:\n-reprise en vibration
 s sonores: exercices de la voix, du son en association avec les chackr
 as, Comment utiliser notre respiration, notre voix,notre souffle pour 
 un mieux être.\n\nCreation d'une chanson par groupe avec la voix et l
 es bols.\n\nPour finir la journée , échange avec le groupe, peinture
  avec les bols. \nRestaurant tibétain Lithang -\n318 rue Saint Jacqu
 es, 75005 Paris\n(RER Port Royal, bus 38, 83 ou 91) \n\n\n\nPour plus
  d'information, aller sur https://epanews.fr/events/atelier-bols-tib-t
 ains-et-voix-avec-c-line-peltier-musicoth
DTSTART;TZID=Europe/Paris:20121125T000000
DTEND;TZID=Europe/Paris:20121125T235900
CATEGORIES:tous
LOCATION:restaurant le Lithang à Paris
WEBSITE:
URL:
CONTACT:
ORGANIZER;CN="Peltier Céline":https://epanews.fr/profile/PeltierCelin
 e
ATTACH;FMTTYPE="image/jpeg":http://storage.ning.com/topology/rest/1.0/
 file/get/1662685031?profile=original
ATTENDEE;ROLE=REQ-PARTICIPANT;PARTSTAT=ACCEPTED;RSVP=TRUE;CN="Peltier 
 Céline":https://epanews.fr/profile/PeltierCeline
END:VEVENT
END:VCALENDAR
