BEGIN:VCALENDAR
PRODID:NingEventWidget-v1
VERSION:2.0
METHOD:PUBLISH
BEGIN:VTIMEZONE
TZID:Europe/Paris
X-LIC-LOCATION:Europe/Paris
BEGIN:DAYLIGHT
TZOFFSETFROM:+0100
TZOFFSETTO:+0200
TZNAME:CEST
DTSTART:19700329T020000
RRULE:FREQ=YEARLY;BYMONTH=3;BYDAY=-1SU
END:DAYLIGHT
BEGIN:STANDARD
TZOFFSETFROM:+0200
TZOFFSETTO:+0100
TZNAME:CET
DTSTART:19701025T030000
RRULE:FREQ=YEARLY;BYMONTH=10;BYDAY=-1SU
END:STANDARD
END:VTIMEZONE
BEGIN:VEVENT
UID:2485226:Event:621204
DTSTAMP:20260423T040750Z
SUMMARY:Atelier bien-Ãªtre, auto massage, visualisation/relaxation
DESCRIPTION:Venez savourer un moment de dÃ©tente\nÂ Atelier bien Ãªtre
 , automassage, visualisation/relaxation\nAtelier qui permet d'habiter 
 son corps en conscience, de se dynamiser, sâ€™ancrer, se motiverâ€¦ av
 ec les mouvements (brain gym, Ã©tirements), l'auto massages (pressions
  digitales, massages,Â tapotements), la visualisation, afin d'instaure
 r une meilleure co-habitation avec son corps,Â et se reconnecter Ã  sa
  propre nature.\nBienfaits de l'atelier :\n\n\nconserver un meilleur Ã
 ©quilibre Ã©motionnel et personnel,\n\nacquÃ©rir une meilleure gestion
  de sesÂ rÃ©actions Ã©motionnelles,Â Â \nretrouver dÃ©tenteÂ etÂ apais
 ement de l'espritÂ etÂ du corps,Â \nharmoniser les deux hÃ©misphÃ¨res 
 du cerveau,Â \namÃ©liorer l'Ã©quilibre du mÃ©tabolisme,\nfaire circule
 r l'Ã©nergie,Â \ngarder un esprit rÃ©ceptif,\nstimuler la vie des orga
 nes,Â \nfavoriser la conscience de soi,\nfaciliter un sommeil rÃ©parat
 eur,\n\nÃªtre plus centrÃ© et plus efficient.\n\n\nÃ  partir de 2 et l
 imitÃ©e Ã  5 Participants\nTarif : 13 euros l'atelier, 45 euros : les 
 5 sÃ©ances\n\nde 14 h Ã  15 h 30Â \n(PossibilitÃ© d'adapter les horair
 es)\n\nPour plus d'information, aller sur https://epanews.fr/events/at
 elier-bien-tre-auto-massage-visualisation-relaxation
DTSTART;TZID=Europe/Paris:20120107T140000
DTEND;TZID=Europe/Paris:20120107T160000
CATEGORIES:02, 51, 63, 61, 15, ou, 06, 31, 72, 08, 68
LOCATION:cholet
WEBSITE:http://www.kinesiologie-cholet.vpweb.fr
URL:http://www.kinesiologie-cholet.vpweb.fr
CONTACT:02 51 63 61 15 - 06 31 72 08 68
ORGANIZER;CN="Marie Laure":https://epanews.fr/profile/MarieLaureMasson
ATTACH;FMTTYPE="image/jpeg":http://storage.ning.com/topology/rest/1.0/
 file/get/1662513244?profile=original
ATTENDEE;ROLE=REQ-PARTICIPANT;PARTSTAT=ACCEPTED;RSVP=TRUE;CN="Marie La
 ure":https://epanews.fr/profile/MarieLaureMasson
END:VEVENT
END:VCALENDAR
