BEGIN:VCALENDAR
PRODID:NingEventWidget-v1
VERSION:2.0
METHOD:PUBLISH
BEGIN:VTIMEZONE
TZID:Europe/Paris
X-LIC-LOCATION:Europe/Paris
BEGIN:DAYLIGHT
TZOFFSETFROM:+0100
TZOFFSETTO:+0200
TZNAME:CEST
DTSTART:19700329T020000
RRULE:FREQ=YEARLY;BYMONTH=3;BYDAY=-1SU
END:DAYLIGHT
BEGIN:STANDARD
TZOFFSETFROM:+0200
TZOFFSETTO:+0100
TZNAME:CET
DTSTART:19701025T030000
RRULE:FREQ=YEARLY;BYMONTH=10;BYDAY=-1SU
END:STANDARD
END:VTIMEZONE
BEGIN:VEVENT
UID:2485226:Event:1308549
DTSTAMP:20260422T213844Z
SUMMARY:Atelier Bien-Etre pour les enfants de 7 à 11 ans sur Bordeaux
DESCRIPTION:Ateliers RECREAZEN\n\n\nPour plus d'information, aller sur
  https://epanews.fr/events/atelier-bien-etre-pour-les-enfants-de-7-11-
 ans-sur-bordeaux
DTSTART;TZID=Europe/Paris:20130515T143000
DTEND;TZID=Europe/Paris:20130515T163000
CATEGORIES:33
LOCATION:Bordeaux /Mérignac ( à coté de la place mondesir)
WEBSITE:http://www.obeha-therapies-naturelles-massage-bordeaux.com/#!a
 teliers-recreazen/cijv
URL:http://www.obeha-therapies-naturelles-massage-bordeaux.com/#!ateli
 ers-recreazen/cijv
CONTACT:0634161517
ORGANIZER;CN="Obêha Relaxation":https://epanews.fr/profile/ObehaRelax
 ation
ATTACH;FMTTYPE="image/jpeg":http://storage.ning.com/topology/rest/1.0/
 file/get/1662814227?profile=original
ATTENDEE;ROLE=REQ-PARTICIPANT;PARTSTAT=ACCEPTED;RSVP=TRUE;CN="Obêha R
 elaxation":https://epanews.fr/profile/ObehaRelaxation
END:VEVENT
END:VCALENDAR
