BEGIN:VCALENDAR
PRODID:NingEventWidget-v1
VERSION:2.0
METHOD:PUBLISH
BEGIN:VTIMEZONE
TZID:Europe/Paris
X-LIC-LOCATION:Europe/Paris
BEGIN:DAYLIGHT
TZOFFSETFROM:+0100
TZOFFSETTO:+0200
TZNAME:CEST
DTSTART:19700329T020000
RRULE:FREQ=YEARLY;BYMONTH=3;BYDAY=-1SU
END:DAYLIGHT
BEGIN:STANDARD
TZOFFSETFROM:+0200
TZOFFSETTO:+0100
TZNAME:CET
DTSTART:19701025T030000
RRULE:FREQ=YEARLY;BYMONTH=10;BYDAY=-1SU
END:STANDARD
END:VTIMEZONE
BEGIN:VEVENT
UID:2485226:Event:1821284
DTSTAMP:20260422T140551Z
SUMMARY:Atelier Bien Etre  et Gourmandise
DESCRIPTION:Jounnée Découverte : \nVenez prendre soin de vous  et 
 découvrir les biens faits d'un soin Reiki et d'Un massage Ayrvédique
  . \nplaces limitées/ réservation obligatoire\n\n\nPour plus d'info
 rmation, aller sur https://epanews.fr/events/atelier-bien-etre-et-gour
 mandise
DTSTART;TZID=Europe/Paris:20140425T000000
DTEND;TZID=Europe/Paris:20140425T235900
CATEGORIES:83
LOCATION:Toulon
WEBSITE:
URL:
CONTACT:06 50 41 39 36
ORGANIZER;CN=Drine:https://epanews.fr/profile/Drine987
ATTACH;FMTTYPE="image/jpeg":http://storage.ning.com/topology/rest/1.0/
 file/get/1663083474?profile=original
ATTENDEE;ROLE=REQ-PARTICIPANT;PARTSTAT=ACCEPTED;RSVP=TRUE;CN=Drine:htt
 ps://epanews.fr/profile/Drine987
END:VEVENT
END:VCALENDAR
