BEGIN:VCALENDAR
PRODID:NingEventWidget-v1
VERSION:2.0
METHOD:PUBLISH
BEGIN:VTIMEZONE
TZID:Europe/Paris
X-LIC-LOCATION:Europe/Paris
BEGIN:DAYLIGHT
TZOFFSETFROM:+0100
TZOFFSETTO:+0200
TZNAME:CEST
DTSTART:19700329T020000
RRULE:FREQ=YEARLY;BYMONTH=3;BYDAY=-1SU
END:DAYLIGHT
BEGIN:STANDARD
TZOFFSETFROM:+0200
TZOFFSETTO:+0100
TZNAME:CET
DTSTART:19701025T030000
RRULE:FREQ=YEARLY;BYMONTH=10;BYDAY=-1SU
END:STANDARD
END:VTIMEZONE
BEGIN:VEVENT
UID:2485226:Event:2255356
DTSTAMP:20260421T123702Z
SUMMARY:Atelier avec Luc Bodin \" Créer sa vie autrement - Trouver sa
  mission de vie\"
DESCRIPTION:Cette journée, ouverte à tous, sera tournée vers la pra
 tique. Elle apportera à chacun des outils immédiatement applicables 
 pour créer sa vie autrement, c’est-à-dire pour ne plus avoir à su
 bir les évènements, mais générer au contraire des situations souha
 itées, positives et agréables.\n\n \nLuc Bodin est Docteur en méde
 cine, diplômé en cancérologie clinique et spécialiste en médecine
 s naturelles. Il est de plus conférencier au niveau international, co
 nseiller scientifique, maître de stage et auteur de nombreux livres d
 estinés au grand public dont « Soignez avec l’énergie », « H
 o’oponopono », « La méthode Aora » et « Manuel de soins én
 ergétiques ».\n\n\n\nTarif  :  95€  -  Maison Cantonale (42 r
 ue de Nuits à Bordeaux)\n\n \n\nRéservations obligatoires à la lib
 rairie –  Places limitées\n\n\n\nPour plus d'information, aller su
 r https://epanews.fr/events/atelier-avec-luc-bodin-cr-er-sa-vie-autrem
 ent-trouver-sa-mission
DTSTART;TZID=Europe/Paris:20150409T090000
DTEND;TZID=Europe/Paris:20150409T170000
CATEGORIES:33, 24, 40, 64, 47
LOCATION:Maison Cantonale
WEBSITE:http://www.librairie-pegase.fr
URL:http://www.librairie-pegase.fr
CONTACT:05 56 51 38 12
ORGANIZER;CN="Librairie PEGASE":https://epanews.fr/profile/LibrairiePE
 GASE
ATTACH;FMTTYPE="image/jpeg":http://storage.ning.com/topology/rest/1.0/
 file/get/1663346716?profile=original
ATTENDEE;ROLE=REQ-PARTICIPANT;PARTSTAT=ACCEPTED;RSVP=TRUE;CN="Librairi
 e PEGASE":https://epanews.fr/profile/LibrairiePEGASE
END:VEVENT
END:VCALENDAR
