BEGIN:VCALENDAR
PRODID:NingEventWidget-v1
VERSION:2.0
METHOD:PUBLISH
BEGIN:VTIMEZONE
TZID:Europe/Paris
X-LIC-LOCATION:Europe/Paris
BEGIN:DAYLIGHT
TZOFFSETFROM:+0100
TZOFFSETTO:+0200
TZNAME:CEST
DTSTART:19700329T020000
RRULE:FREQ=YEARLY;BYMONTH=3;BYDAY=-1SU
END:DAYLIGHT
BEGIN:STANDARD
TZOFFSETFROM:+0200
TZOFFSETTO:+0100
TZNAME:CET
DTSTART:19701025T030000
RRULE:FREQ=YEARLY;BYMONTH=10;BYDAY=-1SU
END:STANDARD
END:VTIMEZONE
BEGIN:VEVENT
UID:2485226:Event:375552
DTSTAMP:20260423T144714Z
SUMMARY:Atelier auto massage relaxation/visualisation
DESCRIPTION:Venez dÃ©couvrir mon atelier auto massage relaxation/visua
 lisation le 2 juillet\nÂ (de 10 h Ã  11 h 30)\nParticipation libre\nSu
 r un lieu magnifique : A la Guinguette l'Embarquement de Murs ErignÃ©\
 nSorte de petit village surgit au milieu de nulle part. Tapi sous l'om
 brage des arbres centenaires, protÃ©gÃ© par une luxuriante vÃ©gÃ©tatio
 n et qui plus est rivÃ© en surplomb de la plage de sableÂ du Louet.Â Â
  \nÂ \npossibilitÃ© deÂ dÃ©couvrir la kinesiologie\nles 2 et 3 juillet
 \n(mÃªme lieu, sous les yourtes, sÃ©ance individuelleÂ Â Ã  35 euros)\
 nContactez moi pour prendre rendez vous !\n\nPour plus d'information, 
 aller sur https://epanews.fr/events/atelier-auto-massage
DTSTART;TZID=Europe/Paris:20110702T100000
DTEND;TZID=Europe/Paris:20110703T193000
CATEGORIES:49
LOCATION:Angers
WEBSITE:http://www.kinesiologie-cholet.vpweb.fr
URL:http://www.kinesiologie-cholet.vpweb.fr
CONTACT:06 31 72 08 68 - 02 51 63 61 15
ORGANIZER:Marie Laure Masson
ATTACH;FMTTYPE="image/jpeg":
ATTENDEE;ROLE=REQ-PARTICIPANT;PARTSTAT=ACCEPTED;RSVP=TRUE;CN="Marie La
 ure":https://epanews.fr/profile/MarieLaureMasson
END:VEVENT
END:VCALENDAR
