BEGIN:VCALENDAR
PRODID:NingEventWidget-v1
VERSION:2.0
METHOD:PUBLISH
BEGIN:VTIMEZONE
TZID:Europe/Paris
X-LIC-LOCATION:Europe/Paris
BEGIN:DAYLIGHT
TZOFFSETFROM:+0100
TZOFFSETTO:+0200
TZNAME:CEST
DTSTART:19700329T020000
RRULE:FREQ=YEARLY;BYMONTH=3;BYDAY=-1SU
END:DAYLIGHT
BEGIN:STANDARD
TZOFFSETFROM:+0200
TZOFFSETTO:+0100
TZNAME:CET
DTSTART:19701025T030000
RRULE:FREQ=YEARLY;BYMONTH=10;BYDAY=-1SU
END:STANDARD
END:VTIMEZONE
BEGIN:VEVENT
UID:2485226:Event:486548
DTSTAMP:20260422T164917Z
SUMMARY:atelier auto massage relaxation/visualisation
DESCRIPTION:venez dÃ©couvrir mon atelier auto massage visulalisation/r
 elaxationÂ AuÂ temple FÃ©mininÂ du Loch nessÂ \nÂ \nBienfaits de l'ate
 lier :\nrestaurer l'Ã©nergie,Â stimuler la vie des organes,Â harmonise
 r les deux hÃ©misphÃ¨res du cerveau, garder un esprit rÃ©ceptif, conse
 rver un meilleur Ã©quilibre Ã©motionnel et personnel,Â libÃ©rer le(s) 
 stress et rÃ©Ã©quilibrer les diffÃ©rentes parties du corps,Â prendre d
 es dÃ©cisions Ã©clairÃ©es, Ãªtre plus centrÃ© et plus efficient, acquÃ
 ©rir une meilleure gestion de sesÂ rÃ©actions Ã©motionnelles, se repos
 er rapidement,Â faciliter un sommeil rÃ©parateur.\nParticipation libre
 \n\nPour plus d'information, aller sur https://epanews.fr/events/ateli
 er-auto-massage-relaxation-visualisation
DTSTART;TZID=Europe/Paris:20110916T210000
DTEND;TZID=Europe/Paris:20110916T230000
CATEGORIES:49
LOCATION:CHOLET
WEBSITE:http://www.kinesiologie-cholet.vpweb.fr
URL:http://www.kinesiologie-cholet.vpweb.fr
CONTACT:02.51.63.61.15
ORGANIZER;CN="Marie Laure":https://epanews.fr/profile/MarieLaureMasson
ATTACH;FMTTYPE="image/jpeg":
ATTENDEE;ROLE=REQ-PARTICIPANT;PARTSTAT=ACCEPTED;RSVP=TRUE;CN="Marie La
 ure":https://epanews.fr/profile/MarieLaureMasson
END:VEVENT
END:VCALENDAR
