BEGIN:VCALENDAR
PRODID:NingEventWidget-v1
VERSION:2.0
METHOD:PUBLISH
BEGIN:VTIMEZONE
TZID:Europe/Paris
X-LIC-LOCATION:Europe/Paris
BEGIN:DAYLIGHT
TZOFFSETFROM:+0100
TZOFFSETTO:+0200
TZNAME:CEST
DTSTART:19700329T020000
RRULE:FREQ=YEARLY;BYMONTH=3;BYDAY=-1SU
END:DAYLIGHT
BEGIN:STANDARD
TZOFFSETFROM:+0200
TZOFFSETTO:+0100
TZNAME:CET
DTSTART:19701025T030000
RRULE:FREQ=YEARLY;BYMONTH=10;BYDAY=-1SU
END:STANDARD
END:VTIMEZONE
BEGIN:VEVENT
UID:2485226:Event:579345
DTSTAMP:20260422T221101Z
SUMMARY:Atelier \"Auto Hypnose\"
DESCRIPTION:Vendredi 4 novembre de 20h30 à 22h à Montélimar\nAtelie
 r \"Auto-Hypnose\"\nAnimée par Maria Augier-Mason qui est thérapeute
  formée à l'hypnose Ericksonienne, à la P.N.L., au coaching, au com
 portement et à l'éveil alimentaire.\nEntrée 15€\n\nPour plus d'in
 formation, aller sur https://epanews.fr/events/atelier-auto-hypnose
DTSTART;TZID=Europe/Paris:20111104T203000
DTEND;TZID=Europe/Paris:20111104T220000
CATEGORIES:26
LOCATION:MONTELIMAR
WEBSITE:http://www.centre-cikitsa.com/centre
URL:http://www.centre-cikitsa.com/centre
CONTACT:07 60 40 29 77
ORGANIZER;CN="Centre CIKITSA":https://epanews.fr/profile/CentreCIKITSA
ATTACH;FMTTYPE="image/jpeg":http://storage.ning.com/topology/rest/1.0/
 file/get/1662481795?profile=original
ATTENDEE;ROLE=REQ-PARTICIPANT;PARTSTAT=ACCEPTED;RSVP=TRUE;CN="Centre C
 IKITSA":https://epanews.fr/profile/CentreCIKITSA
END:VEVENT
END:VCALENDAR
