BEGIN:VCALENDAR
PRODID:NingEventWidget-v1
VERSION:2.0
METHOD:PUBLISH
BEGIN:VTIMEZONE
TZID:Europe/Paris
X-LIC-LOCATION:Europe/Paris
BEGIN:DAYLIGHT
TZOFFSETFROM:+0100
TZOFFSETTO:+0200
TZNAME:CEST
DTSTART:19700329T020000
RRULE:FREQ=YEARLY;BYMONTH=3;BYDAY=-1SU
END:DAYLIGHT
BEGIN:STANDARD
TZOFFSETFROM:+0200
TZOFFSETTO:+0100
TZNAME:CET
DTSTART:19701025T030000
RRULE:FREQ=YEARLY;BYMONTH=10;BYDAY=-1SU
END:STANDARD
END:VTIMEZONE
BEGIN:VEVENT
UID:2485226:Event:2085488
DTSTAMP:20260423T030020Z
SUMMARY:Atelier \"Au Coeur du Coeur\" (dimension du Coeur) Ã  Paris av
 ec Yann CorÃ©
DESCRIPTION:Sâ€™il y a bien une chose que nous devons dÃ©velopper, câ€
 ™est bien la conscience du cÅ“ur, lâ€™ouverture et la disponibilitÃ© b
 ienveillante Ã  ce qui est prÃ©sentement.\nBeaucoup dâ€™Ãªtre travaill
 ent fort Ã  lâ€™ouverture de leur conscience. Mais Ã  mon sens, lâ€™es
 sentiel est le cÅ“ur. Lorsque le cÅ“ur sâ€™ouvre, tout sâ€™ouvre. Le c
 Å“ur est la clÃ© qui ouvre toutes les portes. Ensuite, le cÅ“ur reliÃ©
  Ã  la conscience permet de se manifester avec Â« justesse Â», en tout
 e simplicitÃ©, sans obligation et avec la joie et le plaisir permanent
  dâ€™Ãªtre incarnÃ© et dâ€™expÃ©rimenter la vie terrestre.\nTous les c
 hemins mÃ¨nent au cÅ“ur. La dimension du cÅ“ur est la prochaine Ã©tape
  dont lâ€™humanitÃ© va prendre conscience afin de vivre son unitÃ©, af
 in de vivre ensemble, main dans la main. La dimension du cÅ“ur vibre d
 ans la tonalitÃ© du Â« NOUS Â». Ainsi il nous est proposÃ© de passer d
 u Â« je Â» au NOUS.\nLors de cet Atelier, nous explorerons la dimensio
 n du Coeur, nous plongerons au Coeur de Tout, au creux de Tout, au cre
 ux de lâ€™Ãªtre, nous nous dÃ©tendrons dans le silence du calice du Co
 eur de notre Coeur qui nâ€™est autre que la Source de Vie Une.\nConten
 u de lâ€™atelier:\n- Introduction : Quâ€™est-ce que la dimension du Co
 eur ? - Enseignements inspirÃ©s.\n- Pratiques de Reliance, de Centrage
  et de dÃ©tente.\n-Transmission de clÃ©s dâ€™Amour facilitant lâ€™Ouve
 rture du Coeur.\n- Chant du Coeur.\n- HorizontalitÃ© et harmonisation 
 des polaritÃ©s FÃ©minine et Masculine.\n- MÃ©ditations guidÃ©es.\n- Ce
 rtaines pratiques seront accompagnÃ©es en musique Live !\nâ€¦\nLes thÃ
 ¨mes abordÃ©s seront les suivants:\nLa conscience (verticalitÃ©) du cÅ
 “ur (horizontalitÃ©), le centre ou le point zÃ©ro, quâ€™est ce que lâ€
 ™Amour vÃ©ritable?, Qui Aime ?, de la confiance Ã  la Foi, la SincÃ©ri
 tÃ©, lâ€™HumilitÃ©, Amour de soi, Amour de lâ€™autre, Amour tout court
 , le lÃ¢cher prise, le Pardon, donner et recevoir, le Service,â€¦\nHor
 aires: 14h Ã  17h\nTarif : 30 euros si inscription avant le 20 Novembr
 e, 40 euros aprÃ¨s cette date.\nInfos et inscriptions :\nYann au 06 24
  34 44 24 ou par mail : conscienceducoeur999@gmail.com\nPour confirmer
  votre inscription, merci d'envoyer un mail ou un sms en indiquant le 
 nombre de personnes Ã  inscrire. Si vous Ãªtes sÃ»re de venir, vous po
 uvez vous mettre en \"participants\" sur cette page.\nMerci de partage
 r lâ€™info dans vos rÃ©seaux et avec vos amis! :)\nBienvenue a tous!\n
 WWW.CONSCIENCEDUCOEUR.COM\n\nPour plus d'information, aller sur https:
 //epanews.fr/events/atelier-au-coeur-du-coeur-dimension-du-coeur-paris
 -avec-yann-cor
DTSTART;TZID=Europe/Paris:20141123T180000
DTEND;TZID=Europe/Paris:20141123T190000
CATEGORIES:75
LOCATION:Ã  Paris (18Ã¨me)
WEBSITE:http://www.conscienceducoeur.com
URL:http://www.conscienceducoeur.com
CONTACT:06 24 34 44 24
ORGANIZER;CN="Conscience du Coeur":https://epanews.fr/profile/Conscien
 ceduCoeur
ATTACH;FMTTYPE="image/jpeg":http://storage.ning.com/topology/rest/1.0/
 file/get/1663236058?profile=original
ATTENDEE;ROLE=REQ-PARTICIPANT;PARTSTAT=ACCEPTED;RSVP=TRUE;CN="Conscien
 ce du Coeur":https://epanews.fr/profile/ConscienceduCoeur
END:VEVENT
END:VCALENDAR
