BEGIN:VCALENDAR
PRODID:NingEventWidget-v1
VERSION:2.0
METHOD:PUBLISH
BEGIN:VTIMEZONE
TZID:Europe/Paris
X-LIC-LOCATION:Europe/Paris
BEGIN:DAYLIGHT
TZOFFSETFROM:+0100
TZOFFSETTO:+0200
TZNAME:CEST
DTSTART:19700329T020000
RRULE:FREQ=YEARLY;BYMONTH=3;BYDAY=-1SU
END:DAYLIGHT
BEGIN:STANDARD
TZOFFSETFROM:+0200
TZOFFSETTO:+0100
TZNAME:CET
DTSTART:19701025T030000
RRULE:FREQ=YEARLY;BYMONTH=10;BYDAY=-1SU
END:STANDARD
END:VTIMEZONE
BEGIN:VEVENT
UID:2485226:Event:2934846
DTSTAMP:20260423T121005Z
SUMMARY:Atelier - Art et Chamanisme pour nourrir les coeurs
DESCRIPTION:De la tradition au contemporain - Art et chamanisme pour n
 ourrir les cÅ“urs Atelier : CONSTRUCTION D'UN MANDALA COMMUN SELON LES
  PRINCIPES DE LA ROUE DE LA MEDECINE AMERINDIENNEFranÃ§oise BOSSAN est
  une chamane universelle, de la lignÃ©e des Mic Mac de la grande famil
 le des Algonquins du Nord du Canada. Elle est confÃ©renciÃ¨re, enseign
 ante, coach et thÃ©rapeute holistique auprÃ¨s des particuliers et des 
 entreprises.Marie PASSARELLI est artiste plasticienne titulaire d'un m
 aster en arts plastiques et sciences de l'art Ã  l'UniversitÃ© de Prov
 ence. FormÃ©e en art thÃ©rapie, elle suit actuellement une initiation 
 au chamanisme avec FranÃ§oise BOSSAN. Elle est intervenante en arts pl
 astiques dans de nombreux Ã©tablissements scolaires, elle enseigne le 
 dessin et la peinture. Elle accompagnent Ã©galement les Ã©tudiants aux
  Ã©coles d'arts.Ensemble, elles vous proposent de construire une Å“uvr
 e alliant chamanisme et art, de dÃ©poser des messages picturaux selon 
 les principes de rituels chamaniques.Ces deux pratiques ont en commun,
  cette force intrinsÃ¨que de rÃ©vÃ©ler l'invisible â€¦ Peindre, c'est 
 la mise en situation d'une connexion oÃ¹ la libertÃ© du geste est de l
 â€™ordre de la transe.Dans cette initiation, FranÃ§oise et Marie vous 
 offrent une faÃ§on d'apprÃ©hender la peinture par le chamanisme selon 
 les principes de la roue de la mÃ©decine.En dÃ©but de journÃ©e, FranÃ§
 oise vous parlera de certains principes initiatiques de la roue de la 
 mÃ©decine amÃ©rindienne (les 4 Ã©lÃ©ments, les 4 directions, les 4 gar
 diens des portes). Marie fera une introduction aux pratiques picturale
 s par le biais de rÃ©fÃ©rences dans l'histoire de l'art relatives au c
 hamanisme.Puis, vous fabriquerez et vous mettrez en place les outils n
 Ã©cessaires Ã  votre art, comme les bÃ¢tons Ã  peindre. Vous vivrez un
  rituel chamanique, vous voyagerez au son du tambour â€¦ Vous allez ex
 pÃ©rimenter la transe et vous mettre en condition pour crÃ©er et rÃ©vÃ
 ©ler l'invisible. Vous rÃ©aliserez ensemble un mandala selon les princ
 ipes de la roue de la mÃ©decine.Vous passerez ensuite par la verbalisa
 tion au moyen du bÃ¢ton de parole. Chaque participant repartira avec u
 n objet sacrÃ©, qu'il aura rÃ©alisÃ©. La crÃ©ation sera exposÃ©e avec 
 d'autres productions dans divers endroits afin de mettre en lumiÃ¨re c
 et art dâ€™amour universel et inspirer le monde. Les possibilitÃ©s son
 t infinies, câ€™est Ã  nous, Ã  vous, ensemble, dans la rencontre, le 
 partage, la bienveillance d'ouvrir nos cÅ“urs afin dâ€™oeuvrer en cons
 cience pour un monde meilleur!Tarif : 110 euros matÃ©riel de base four
 ni.Billetterie : https://www.weezevent.com/art-et-chamanisme-pour-nour
 rir-les-coeurs\nLien facebook :Â https://www.facebook.com/events/18778
 4545156614/Adresse : Le Non-Lieu 67 rue de la Palud 13006 MarseilleDat
 e : 11 mars Horaires : 10h30 Ã  17h30Nombre limitÃ© Ã  20 personnesMai
 l : art.chamanisme@gmail.com\n\nPour plus d'information, aller sur htt
 ps://epanews.fr/events/atelier-art-et-chamanisme-pour-nourrir-les-coeu
 rs
DTSTART;TZID=Europe/Paris:20180311T103000
DTEND;TZID=Europe/Paris:20180311T173000
CATEGORIES:13
LOCATION:Le Non-Lieu
WEBSITE:https://www.weezevent.com/art-et-chamanisme-pour-nourrir-les-c
 oeurs
URL:https://www.weezevent.com/art-et-chamanisme-pour-nourrir-les-coeur
 s
CONTACT:
ORGANIZER;CN="FranÃ§oise BOSSAN":https://epanews.fr/profile/FrancoiseB
 OSSAN
ATTACH;FMTTYPE="image/jpeg":http://storage.ning.com/topology/rest/1.0/
 file/get/1663722090?profile=original
ATTENDEE;ROLE=REQ-PARTICIPANT;PARTSTAT=ACCEPTED;RSVP=TRUE;CN="FranÃ§oi
 se BOSSAN":https://epanews.fr/profile/FrancoiseBOSSAN
ATTENDEE;ROLE=REQ-PARTICIPANT;PARTSTAT=TENTATIVE;RSVP=TRUE;CN=Sandrine
 :https://epanews.fr/profile/Sandy57
END:VEVENT
END:VCALENDAR
