BEGIN:VCALENDAR
PRODID:NingEventWidget-v1
VERSION:2.0
METHOD:PUBLISH
BEGIN:VTIMEZONE
TZID:Europe/Paris
X-LIC-LOCATION:Europe/Paris
BEGIN:DAYLIGHT
TZOFFSETFROM:+0100
TZOFFSETTO:+0200
TZNAME:CEST
DTSTART:19700329T020000
RRULE:FREQ=YEARLY;BYMONTH=3;BYDAY=-1SU
END:DAYLIGHT
BEGIN:STANDARD
TZOFFSETFROM:+0200
TZOFFSETTO:+0100
TZNAME:CET
DTSTART:19701025T030000
RRULE:FREQ=YEARLY;BYMONTH=10;BYDAY=-1SU
END:STANDARD
END:VTIMEZONE
BEGIN:VEVENT
UID:2485226:Event:2938159
DTSTAMP:20260423T025229Z
SUMMARY:Atelier aroma-conte
DESCRIPTION:L'histoire de la nature à travers l'Olfactif (et nos autr
 es sens ) et les Contes....Un défie relevé ! Coopération des l'Asso
 ciations \"Zen'attitude\" et \"à l'orée de...\"\nIntervenants:Corinn
 e NGUYEN et Thierry De Capella\nParticipation de 6€ pour les non adh
 érents et gratuit pour les adhérents\nOUVERT A TOUS\nNous finalisons
  l'évènement par une collation..échanges,partages...et le plaisir g
 ustatif!\ncontact: asso.zenattitude@yahoo;fr ou 0609876866\n\nPour plu
 s d'information, aller sur https://epanews.fr/events/atelier-aroma-con
 te
DTSTART;TZID=Europe/Paris:20180310T143000
DTEND;TZID=Europe/Paris:20180310T170000
CATEGORIES:11
LOCATION:Mas Saintes Puelles salle des Asso
WEBSITE:
URL:
CONTACT:
ORGANIZER;CN="Corinne NGUYEN":https://epanews.fr/profile/CorinneNGUYEN
ATTACH;FMTTYPE="image/jpeg":http://storage.ning.com/topology/rest/1.0/
 file/get/1663725098?profile=original
ATTENDEE;ROLE=REQ-PARTICIPANT;PARTSTAT=ACCEPTED;RSVP=TRUE;CN="Corinne 
 NGUYEN":https://epanews.fr/profile/CorinneNGUYEN
END:VEVENT
END:VCALENDAR
