BEGIN:VCALENDAR
PRODID:NingEventWidget-v1
VERSION:2.0
METHOD:PUBLISH
BEGIN:VTIMEZONE
TZID:Europe/Paris
X-LIC-LOCATION:Europe/Paris
BEGIN:DAYLIGHT
TZOFFSETFROM:+0100
TZOFFSETTO:+0200
TZNAME:CEST
DTSTART:19700329T020000
RRULE:FREQ=YEARLY;BYMONTH=3;BYDAY=-1SU
END:DAYLIGHT
BEGIN:STANDARD
TZOFFSETFROM:+0200
TZOFFSETTO:+0100
TZNAME:CET
DTSTART:19701025T030000
RRULE:FREQ=YEARLY;BYMONTH=10;BYDAY=-1SU
END:STANDARD
END:VTIMEZONE
BEGIN:VEVENT
UID:2485226:Event:2673507
DTSTAMP:20260421T172635Z
SUMMARY:atelier 1er pas dans le magnetisme
DESCRIPTION:Atelier 1er pas dans le magnétisme par Colette Salvanez -
  \nMercredi 13 Juillet 2016 de 14h00 à 18h00 \nExplications des poi
 nts énergétiques sur le corps. \n Comment soulager certaines doule
 urs. \n Les premières protections afin de ne pas prendre la douleur
  de l'autre. \n Déroulement d'une séance de magnétisme.\nTarifs 2
 5€ non adhérent - 20€ adhérent\nInscription Nadège 06.23.01.35.
 96 ou larcencieldupartage@sfr.fr\nLieu : L'arc en ciel du partage - 1 
  rue garancière 11100 Narbonne\nwww.larcencieldupartage.org\n\nPour 
 plus d'information, aller sur https://epanews.fr/events/atelier-1er-pa
 s-dans-le-magnetisme
DTSTART;TZID=Europe/Paris:20160713T140000
DTEND;TZID=Europe/Paris:20160713T180000
CATEGORIES:11
LOCATION:narbonne
WEBSITE:http://www.larcencieldupartage.org
URL:http://www.larcencieldupartage.org
CONTACT:0623013596
ORGANIZER;CN="L'arc en ciel du partage":https://epanews.fr/profile/Lar
 cencieldupartage
ATTACH;FMTTYPE="image/jpeg":http://storage.ning.com/topology/rest/1.0/
 file/get/1663581772?profile=original
ATTENDEE;ROLE=REQ-PARTICIPANT;PARTSTAT=ACCEPTED;RSVP=TRUE;CN="L'arc en
  ciel du partage":https://epanews.fr/profile/Larcencieldupartage
END:VEVENT
END:VCALENDAR
