BEGIN:VCALENDAR
PRODID:NingEventWidget-v1
VERSION:2.0
METHOD:PUBLISH
BEGIN:VTIMEZONE
TZID:Europe/Paris
X-LIC-LOCATION:Europe/Paris
BEGIN:DAYLIGHT
TZOFFSETFROM:+0100
TZOFFSETTO:+0200
TZNAME:CEST
DTSTART:19700329T020000
RRULE:FREQ=YEARLY;BYMONTH=3;BYDAY=-1SU
END:DAYLIGHT
BEGIN:STANDARD
TZOFFSETFROM:+0200
TZOFFSETTO:+0100
TZNAME:CET
DTSTART:19701025T030000
RRULE:FREQ=YEARLY;BYMONTH=10;BYDAY=-1SU
END:STANDARD
END:VTIMEZONE
BEGIN:VEVENT
UID:2485226:Event:526222
DTSTAMP:20260423T155141Z
SUMMARY:Atelier 100% pratique Marche et pratique corporelle en Nature
DESCRIPTION:Atelier le  19 novembre de 13h 30 à 17h à Periac/mer. A
 telier  100% pratique, réservé à maximum 10 participants et animé
  par Isabelle Gaubert,\nMarche  guidée et pratique corporelle rellia
 nce avec la Nature\nCo voiturage possible au départ de Narbonne Prix
  15 € + 12 € adhésion à l'association pour les non adhérents. \
 n\nPour plus d'information, aller sur https://epanews.fr/events/atelie
 r-100-pratique-marche-et-pratique-corporelle-en-nature
DTSTART;TZID=Europe/Paris:20111119T133000
DTEND;TZID=Europe/Paris:20111119T170000
CATEGORIES:11
LOCATION:Peyriac sur Mer
WEBSITE:http://www.lamarche-autrement.com
URL:http://www.lamarche-autrement.com
CONTACT:06 81 09 15 78
ORGANIZER;CN="GAUBERT Isabelle":https://epanews.fr/profile/GAUBERTIsab
 elle
ATTACH;FMTTYPE="image/jpeg":http://storage.ning.com/topology/rest/1.0/
 file/get/1662462293?profile=original
ATTENDEE;ROLE=REQ-PARTICIPANT;PARTSTAT=ACCEPTED;RSVP=TRUE;CN="GAUBERT 
 Isabelle":https://epanews.fr/profile/GAUBERTIsabelle
END:VEVENT
END:VCALENDAR
