BEGIN:VCALENDAR
PRODID:NingEventWidget-v1
VERSION:2.0
METHOD:PUBLISH
BEGIN:VTIMEZONE
TZID:Europe/Paris
X-LIC-LOCATION:Europe/Paris
BEGIN:DAYLIGHT
TZOFFSETFROM:+0100
TZOFFSETTO:+0200
TZNAME:CEST
DTSTART:19700329T020000
RRULE:FREQ=YEARLY;BYMONTH=3;BYDAY=-1SU
END:DAYLIGHT
BEGIN:STANDARD
TZOFFSETFROM:+0200
TZOFFSETTO:+0100
TZNAME:CET
DTSTART:19701025T030000
RRULE:FREQ=YEARLY;BYMONTH=10;BYDAY=-1SU
END:STANDARD
END:VTIMEZONE
BEGIN:VEVENT
UID:2485226:Event:60113
DTSTAMP:20260419T194215Z
SUMMARY:Atelier
DESCRIPTION:Pratique qui ne nécessite aucune connaissance, ni techniq
 ue particulière.\nPar la suspension momentanée du système volontair
 e, elle permet de sortir du mental, d'accompagner et de nourrir en soi
  le désir d'aller à l'essentiel.\nUne pratique simple d'accès pour 
 se rencontrer, être ensemble autrement;\nAccessible à tous ceux qui 
 éprouvent le besoin de partager sans trop de mot et souhaitent vivre 
 une expérience personnelle.\n\nPour plus d'information, aller sur htt
 ps://epanews.fr/events/atelier-1
DTSTART;TZID=Europe/Paris:20100529T020000
DTEND;TZID=Europe/Paris:20100529T030000
CATEGORIES:"?"
LOCATION:1 fois tous les 15jours toute l'année à la Chaux du Dombief
  dans le Jura l'aprés-midi à 14h
WEBSITE:http://psychocorporelle.vpweb.fr
URL:http://psychocorporelle.vpweb.fr
CONTACT:06 72 70 26 20
ORGANIZER;CN="Les ateliers du mouvement":https://epanews.fr/profile/Le
 sateliersdumouvement
ATTACH;FMTTYPE="image/jpeg":http://storage.ning.com/topology/rest/1.0/
 file/get/1662302307?profile=original
ATTENDEE;ROLE=REQ-PARTICIPANT;PARTSTAT=ACCEPTED;RSVP=TRUE;CN="Les atel
 iers du mouvement":https://epanews.fr/profile/Lesateliersdumouvement
END:VEVENT
END:VCALENDAR
