BEGIN:VCALENDAR
PRODID:NingEventWidget-v1
VERSION:2.0
METHOD:PUBLISH
BEGIN:VTIMEZONE
TZID:Europe/Paris
X-LIC-LOCATION:Europe/Paris
BEGIN:DAYLIGHT
TZOFFSETFROM:+0100
TZOFFSETTO:+0200
TZNAME:CEST
DTSTART:19700329T020000
RRULE:FREQ=YEARLY;BYMONTH=3;BYDAY=-1SU
END:DAYLIGHT
BEGIN:STANDARD
TZOFFSETFROM:+0200
TZOFFSETTO:+0100
TZNAME:CET
DTSTART:19701025T030000
RRULE:FREQ=YEARLY;BYMONTH=10;BYDAY=-1SU
END:STANDARD
END:VTIMEZONE
BEGIN:VEVENT
UID:2485226:Event:680139
DTSTAMP:20260422T091444Z
SUMMARY:Astrologie Traditionnelle Observation et Atelier animée par E
 loïse Mercier
DESCRIPTION:La Lumières des planètes\nComment reconnaitre les planè
 tes, Observer la lumière qu'elles dégagent. Leurs différents attrib
 uts, et comment leurs rayons se manifestent dans les différent formes
  de l'existance.\nAvec chaque participant nous regarderont comment ét
 aient positionnnées les planètes à leur naissance.\nNous pourrons v
 oir Vénus, Mars, Jupiter\n\nPour plus d'information, aller sur https:
 //epanews.fr/events/astrologie-traditionnelle-observation-et-atelier-a
 nim-e-par-elo
DTSTART;TZID=Europe/Paris:20120316T183000
DTEND;TZID=Europe/Paris:20120316T203000
CATEGORIES:13
LOCATION:la Bouilladisse
WEBSITE:http://www.espacelila.com/accès.php
URL:http://www.espacelila.com/accès.php
CONTACT:0666264884
ORGANIZER:Eloïse Mercier
ATTACH;FMTTYPE="image/jpeg":http://storage.ning.com/topology/rest/1.0/
 file/get/1662550454?profile=original
ATTENDEE;ROLE=REQ-PARTICIPANT;PARTSTAT=ACCEPTED;RSVP=TRUE;CN="Victoria
  Nalin":https://epanews.fr/profile/VictoriaNalin
END:VEVENT
END:VCALENDAR
