BEGIN:VCALENDAR
PRODID:NingEventWidget-v1
VERSION:2.0
METHOD:PUBLISH
BEGIN:VTIMEZONE
TZID:Europe/Paris
X-LIC-LOCATION:Europe/Paris
BEGIN:DAYLIGHT
TZOFFSETFROM:+0100
TZOFFSETTO:+0200
TZNAME:CEST
DTSTART:19700329T020000
RRULE:FREQ=YEARLY;BYMONTH=3;BYDAY=-1SU
END:DAYLIGHT
BEGIN:STANDARD
TZOFFSETFROM:+0200
TZOFFSETTO:+0100
TZNAME:CET
DTSTART:19701025T030000
RRULE:FREQ=YEARLY;BYMONTH=10;BYDAY=-1SU
END:STANDARD
END:VTIMEZONE
BEGIN:VEVENT
UID:2485226:Event:540868
DTSTAMP:20260422T234154Z
SUMMARY:Astrologie et Constellations Planétaires
DESCRIPTION:L'Astrologie est un outil passionnant de connaissance de s
 oi et des autres. Les signes, planètes, maisons, aspects,  symbolise
 nt autant de fragments de notre psyché à considérer avant de rejoin
 dre l'unité qui est en nous. Ainsi, la mise en lumière de notre thé
 âtre intérieur nous aide à grandir en conscience sur le chemin de l
 'unité.\n \nau Tempo Sylvabelle, 71 rue Sylvabelle, 13006 Marseille\
 nParticipation Libre\ndamplanet@free.fr\n\nPour plus d'information, al
 ler sur https://epanews.fr/events/astrologie-et-constellations-plan-ta
 ires
DTSTART;TZID=Europe/Paris:20111013T190000
DTEND;TZID=Europe/Paris:20111013T203000
CATEGORIES:13006, marseille
LOCATION:MARSEILLE
WEBSITE:http://(près du métro 1, sortie Estrangin Préfecture)
URL:http://(près du métro 1, sortie Estrangin Préfecture)
CONTACT:04 91 75 59 45 - 06 89 09 76 95
ORGANIZER;CN=dominique:https://epanews.fr/profile/domi
ATTACH;FMTTYPE="image/jpeg":http://storage.ning.com/topology/rest/1.0/
 file/get/1662463854?profile=original
ATTENDEE;ROLE=REQ-PARTICIPANT;PARTSTAT=ACCEPTED;RSVP=TRUE;CN=dominique
 :https://epanews.fr/profile/domi
ATTENDEE;ROLE=REQ-PARTICIPANT;PARTSTAT=TENTATIVE;RSVP=TRUE;CN=Namaste0
 5:https://epanews.fr/profile/PATYAVINIO
END:VEVENT
END:VCALENDAR
