BEGIN:VCALENDAR
PRODID:NingEventWidget-v1
VERSION:2.0
METHOD:PUBLISH
BEGIN:VTIMEZONE
TZID:Europe/Paris
X-LIC-LOCATION:Europe/Paris
BEGIN:DAYLIGHT
TZOFFSETFROM:+0100
TZOFFSETTO:+0200
TZNAME:CEST
DTSTART:19700329T020000
RRULE:FREQ=YEARLY;BYMONTH=3;BYDAY=-1SU
END:DAYLIGHT
BEGIN:STANDARD
TZOFFSETFROM:+0200
TZOFFSETTO:+0100
TZNAME:CET
DTSTART:19701025T030000
RRULE:FREQ=YEARLY;BYMONTH=10;BYDAY=-1SU
END:STANDARD
END:VTIMEZONE
BEGIN:VEVENT
UID:2485226:Event:517537
DTSTAMP:20260423T030537Z
SUMMARY:\"Astres et destin\"
DESCRIPTION:Peut-on croire à l'astrologie ? Les astres ont-ils une in
 fluence ? Pouvons-nous tirer des enseignements sur notre destin grâce
  aux astres ? Des courants refluent-ils vers nous? A quel moment ? Ces
  courants du destin sont-il dirigés, et par qui ? Que reste--t-il de 
 notre liberté ? - Après l'exposé, Daniel Dardour répondra aux ques
 tions des auditeurs -\nEn partenariat avec l'association USFIDES -\nPa
 rticipation : 8 euros.\n\nPour plus d'information, aller sur https://e
 panews.fr/events/astres-et-destin
DTSTART;TZID=Europe/Paris:20111120T150000
DTEND;TZID=Europe/Paris:20111120T170000
CATEGORIES:75
LOCATION:PARIS
WEBSITE:http://graal.org
URL:http://graal.org
CONTACT:06 63 19 87 70
ORGANIZER:Revue \"Monde du Graal\"
ATTACH;FMTTYPE="image/jpeg":
ATTENDEE;ROLE=REQ-PARTICIPANT;PARTSTAT=ACCEPTED;RSVP=TRUE;CN="Bernard 
 Penverne":https://epanews.fr/profile/BernardPenverne
END:VEVENT
END:VCALENDAR
