BEGIN:VCALENDAR
PRODID:NingEventWidget-v1
VERSION:2.0
METHOD:PUBLISH
BEGIN:VTIMEZONE
TZID:Europe/Paris
X-LIC-LOCATION:Europe/Paris
BEGIN:DAYLIGHT
TZOFFSETFROM:+0100
TZOFFSETTO:+0200
TZNAME:CEST
DTSTART:19700329T020000
RRULE:FREQ=YEARLY;BYMONTH=3;BYDAY=-1SU
END:DAYLIGHT
BEGIN:STANDARD
TZOFFSETFROM:+0200
TZOFFSETTO:+0100
TZNAME:CET
DTSTART:19701025T030000
RRULE:FREQ=YEARLY;BYMONTH=10;BYDAY=-1SU
END:STANDARD
END:VTIMEZONE
BEGIN:VEVENT
UID:2485226:Event:2933324
DTSTAMP:20260421T155108Z
SUMMARY:ashani
DESCRIPTION:Venez chanter et danser le SacrÃ© dans la joie, le partage
  et lâ€™unitÃ© avec Ashani !\nLes Danses de la Paix Universelle sont i
 nspirÃ©es des traditions spirituelles du monde entier. Elles invitent 
 Ã  la cÃ©lÃ©bration et Ã  la mÃ©ditation par le chant et le mouvement.
 \nAshani pratique la mÃ©ditation et le chant sacrÃ© depuis de nombreus
 es annÃ©es. ConfÃ©renciÃ¨re et organisatrice dâ€™Ã©vÃ©nements pour la 
 Paix, elle a rencontrÃ© les Danses de la Paix lâ€™an dernier et les pr
 opose depuis peu dans notre rÃ©gion tant elles lâ€™ont inspirÃ©e et lu
 i sont apparues comme la continuitÃ© de son cheminement personnel.\nEl
 le en parle ainsi : Â« Les danses mâ€™entraÃ®nent joyeusement et natur
 ellement dans les profondeurs de mon Ãªtre, elles me relient directeme
 nt Ã  mon Ã¢me et Ã  lâ€™Ã‚me du monde. Puissant outil de transformati
 on de soi, elles nourrissent mon aspiration Ã  un monde de paix et dâ€
 ™unitÃ© auquel je suis trÃ¨s reconnaissante de pouvoir contribuer.Â»\n
 PAF : 15â‚¬\nRenseignements et Inscriptions : 06 21 07 63 68\nPour plu
 s dinfo: https://aladanse.fr (site franÃ§ais)\nhttps://www.dancesofuni
 versalpeace.org (site international)\nPhoto : prise au Camp d'Ã©tÃ© 20
 16 des Danses de la Paix Ã  Ste Camelle (AriÃ¨ge)\n\nPour plus d'infor
 mation, aller sur https://epanews.fr/events/ashani
DTSTART;TZID=Europe/Paris:20180220T190000
DTEND;TZID=Europe/Paris:20180220T210000
CATEGORIES:13
LOCATION:Marseille au Soleil IntÃ©rieur
WEBSITE:http://https;//aladanse.fr
URL:http://https;//aladanse.fr
CONTACT:06 21 07 63 68
ORGANIZER:ashani
ATTACH;FMTTYPE="image/jpeg":http://storage.ning.com/topology/rest/1.0/
 file/get/1663722709?profile=original
ATTENDEE;ROLE=REQ-PARTICIPANT;PARTSTAT=ACCEPTED;RSVP=TRUE;CN="ashani p
 luchino":https://epanews.fr/profile/ashanipluchino
END:VEVENT
END:VCALENDAR
