BEGIN:VCALENDAR
PRODID:NingEventWidget-v1
VERSION:2.0
METHOD:PUBLISH
BEGIN:VTIMEZONE
TZID:Europe/Paris
X-LIC-LOCATION:Europe/Paris
BEGIN:DAYLIGHT
TZOFFSETFROM:+0100
TZOFFSETTO:+0200
TZNAME:CEST
DTSTART:19700329T020000
RRULE:FREQ=YEARLY;BYMONTH=3;BYDAY=-1SU
END:DAYLIGHT
BEGIN:STANDARD
TZOFFSETFROM:+0200
TZOFFSETTO:+0100
TZNAME:CET
DTSTART:19701025T030000
RRULE:FREQ=YEARLY;BYMONTH=10;BYDAY=-1SU
END:STANDARD
END:VTIMEZONE
BEGIN:VEVENT
UID:2485226:Event:2393955
DTSTAMP:20260423T123820Z
SUMMARY:Arigato Zen: mÃ©ditation par la voix Ã  Versailles
DESCRIPTION:ARIGATO ZEN est une mÃ©thode de mÃ©ditation permettant de 
 retrouver le bien-Ãªtre en chassant les souvenirs nÃ©gatifs et en nous
  libÃ©rant du stress tout en dÃ©veloppant un profond sentiment dâ€™acc
 omplissement.\nPar lâ€™effet des vibrations des voix et des bols de Cr
 istal, par la maÃ®trise dâ€™une respiration juste, ARIGATO ZEN permet 
 la prise de conscience du lien corps-esprit.\nARIGATO ZEN est ouvert Ã
   tous et sâ€™adresse Ã  toute personne intÃ©ressÃ©e par la mÃ©ditatio
 n, quels que soient son expÃ©rience, ses capacitÃ©s physiques, son ori
 gine et sa sensibilitÃ© religieuse ou philosophique.\nVenant du Japon,
 Â SOHO MACHIDA sera prÃ©sent Ã  VersaillesÂ :\nSamedii 19/09Â Ã Â 15h:
 Â sÃ©ance de mÃ©ditationÂ (PAF 35â‚¬)\nÂ \nRÃ©servationÂ et renseignem
 entsÂ :sohozen.fr@gmail.com\nou 06 23 87 31 86\nSite: www.arigatozen.e
 u\n\n\nPour plus d'information, aller sur https://epanews.fr/events/ar
 igato-zen-m-ditation-par-la-voix-versailles
DTSTART;TZID=Europe/Paris:20150919T150000
DTEND;TZID=Europe/Paris:20150919T180000
CATEGORIES:78
LOCATION:Centre FrÃ©dÃ©ric Ozanam
WEBSITE:https://www.google.fr/maps/place/Centre+Fr%C3%A9d%C3%A9ric+Oza
 nam/@48.795265,2.119419,17z/data=!3m1!4b1!4m2!3m1!1s0x47e67dc1623b9e3d
 :0xa771444685023e9a?hl=fr
URL:https://www.google.fr/maps/place/Centre+Fr%C3%A9d%C3%A9ric+Ozanam/
 @48.795265,2.119419,17z/data=!3m1!4b1!4m2!3m1!1s0x47e67dc1623b9e3d:0xa
 771444685023e9a?hl=fr
CONTACT:0623 873 186
ORGANIZER;CN=Oriibu:https://epanews.fr/profile/Oriibu
ATTACH;FMTTYPE="image/jpeg":http://storage.ning.com/topology/rest/1.0/
 file/get/1663427338?profile=original
ATTENDEE;ROLE=REQ-PARTICIPANT;PARTSTAT=ACCEPTED;RSVP=TRUE;CN=Oriibu:ht
 tps://epanews.fr/profile/Oriibu
END:VEVENT
END:VCALENDAR
