BEGIN:VCALENDAR
PRODID:NingEventWidget-v1
VERSION:2.0
METHOD:PUBLISH
BEGIN:VTIMEZONE
TZID:Europe/Paris
X-LIC-LOCATION:Europe/Paris
BEGIN:DAYLIGHT
TZOFFSETFROM:+0100
TZOFFSETTO:+0200
TZNAME:CEST
DTSTART:19700329T020000
RRULE:FREQ=YEARLY;BYMONTH=3;BYDAY=-1SU
END:DAYLIGHT
BEGIN:STANDARD
TZOFFSETFROM:+0200
TZOFFSETTO:+0100
TZNAME:CET
DTSTART:19701025T030000
RRULE:FREQ=YEARLY;BYMONTH=10;BYDAY=-1SU
END:STANDARD
END:VTIMEZONE
BEGIN:VEVENT
UID:2485226:Event:1633660
DTSTAMP:20260423T225836Z
SUMMARY:Architecture vivante - Géométrie sacrée
DESCRIPTION:Colloque Convivencia\nProgramme\nJeudi 28 Novembre\n15h30 
 – 16h30 :Auroville, le lien d’or (film documentaire)\n16h30 – 17
 h30 :Matrimandir, architecture sacrée\nVendredi 29 Novembre14h00 – 
 15h00 :La vie et l’œuvre de l’égyptologueSchwaller de Lubicz\n15
 h00 – 15h15 :Architecture Vivante en Égypte : survol des travauxdes
  Schwaller de Lubicz.\n15h30 – 16h30 :Montségur : un tracé harmoni
 queaux fondements de la tradition hermétique\n19h30 – 20h00 :Le sen
 s des nombres dans la musique\n20h00 – 21h00 :Concert : Orient / Occ
 ident\nSamedi 30 Novembre\n14h30 – 15h15 :La géométrie sacrée dan
 s la nature\n16h00 – 16h45 :Géométrie et Cosmologie pythagoricienn
 e\nExposition & AteliersDu Jeudi 28 au Samedi 30 novembre\nLes solides
  de PlatonExposition de sculptures en pierre, par Jean Christophe Vala
 nce\nAtelier de taille de pierreChaque matinée de 10h à 12h les 28, 
 29 et 30 novembreanimé par Jean-Christophe Valance -Compagnon du Devo
 ir\n\nEntrée libre et gratuite\n\nPour plus d'information, aller sur 
 https://epanews.fr/events/architecture-vivante-g-om-trie-sacr-e
DTSTART;TZID=Europe/Paris:20131128T100000
DTEND;TZID=Europe/Paris:20131130T180000
CATEGORIES:31
LOCATION:Espace Duranti - Salle Osète
WEBSITE:http://www.gnose-hermetisme.org
URL:http://www.gnose-hermetisme.org
CONTACT:
ORGANIZER:Gnose Science et Hermétisme
ATTACH;FMTTYPE="image/jpeg":http://storage.ning.com/topology/rest/1.0/
 file/get/1662975103?profile=original
ATTENDEE;ROLE=REQ-PARTICIPANT;PARTSTAT=ACCEPTED;RSVP=TRUE;CN="Christia
 n Malgras":https://epanews.fr/profile/ChristianMalgras
END:VEVENT
END:VCALENDAR
