BEGIN:VCALENDAR
PRODID:NingEventWidget-v1
VERSION:2.0
METHOD:PUBLISH
BEGIN:VTIMEZONE
TZID:Europe/Paris
X-LIC-LOCATION:Europe/Paris
BEGIN:DAYLIGHT
TZOFFSETFROM:+0100
TZOFFSETTO:+0200
TZNAME:CEST
DTSTART:19700329T020000
RRULE:FREQ=YEARLY;BYMONTH=3;BYDAY=-1SU
END:DAYLIGHT
BEGIN:STANDARD
TZOFFSETFROM:+0200
TZOFFSETTO:+0100
TZNAME:CET
DTSTART:19701025T030000
RRULE:FREQ=YEARLY;BYMONTH=10;BYDAY=-1SU
END:STANDARD
END:VTIMEZONE
BEGIN:VEVENT
UID:2485226:Event:2280808
DTSTAMP:20260422T153524Z
SUMMARY:Après midi zen: Tarot, Energie...
DESCRIPTION:Sortirzen vous propose un après-midi zen (sujets généra
 lement traités: Energie, Tarot, Médiumnité, coaching...)\nThème: E
 tes-vous prêt à changer de vie?\noù chacun pourra bénéficier des 
 prestations proposées ou proposer, partager, exercer sa passion, ses 
 connaissances autour de tables rondes sur le thème proposé ou sur le
 s traditionnels stands Bien-Etre, Energie, Tarot....\n\n16h30 à 20h00
 : Accueil par le verre de l'amitié (boissons chaudes: thé, café pri
 ncipalement). Echanges\n\n\n19h30: tirage au sort parmi les personnes 
 encore présentes: 2 repas valeurs 20€ chacun à gagner.\n\n\n20h00 
 fin de la rencontre (vous pouvez partir à tout moment mais de délai 
 pour rendre la salle est à 20h30) \n\nParticipation:10€ \nLieu:\nCe
 ntre des Deux Moulins, 185 rue du Château des Rentiers, 75013 Paris (
 métro: Place d'Italie)\nSalle \"Grande salle\"\nNota: les termes abor
 dés seront définis en fonction des personnes présentes. Sortir Zen 
 ne peut aujourd'hui vous préciser ce que vous trouverez (merci de met
 tre en commentaires ce que vous proposez ou ce que vous recherchez).\n
  Le principe de ces rencontres sont sur le partage, l'échange donc le
 s professionnels ne se font pas rétribuer et ne doivent pas vous dema
 nder de participation. Ils peuvent cependant laisser leur carte sur un
 e  table à l'entrée.\n\nPour plus d'information, aller sur https://
 epanews.fr/events/apr-s-midi-zen-tarot-energie
DTSTART;TZID=Europe/Paris:20150411T163000
DTEND;TZID=Europe/Paris:20150411T200000
CATEGORIES:75
LOCATION:Paris
WEBSITE:
URL:
CONTACT:
ORGANIZER;CN=Claude:https://epanews.fr/profile/claude
ATTACH;FMTTYPE="image/jpeg":
ATTENDEE;ROLE=REQ-PARTICIPANT;PARTSTAT=ACCEPTED;RSVP=TRUE;CN=Claude:ht
 tps://epanews.fr/profile/claude
END:VEVENT
END:VCALENDAR
