BEGIN:VCALENDAR
PRODID:NingEventWidget-v1
VERSION:2.0
METHOD:PUBLISH
BEGIN:VTIMEZONE
TZID:Europe/Paris
X-LIC-LOCATION:Europe/Paris
BEGIN:DAYLIGHT
TZOFFSETFROM:+0100
TZOFFSETTO:+0200
TZNAME:CEST
DTSTART:19700329T020000
RRULE:FREQ=YEARLY;BYMONTH=3;BYDAY=-1SU
END:DAYLIGHT
BEGIN:STANDARD
TZOFFSETFROM:+0200
TZOFFSETTO:+0100
TZNAME:CET
DTSTART:19701025T030000
RRULE:FREQ=YEARLY;BYMONTH=10;BYDAY=-1SU
END:STANDARD
END:VTIMEZONE
BEGIN:VEVENT
UID:2485226:Event:2738519
DTSTAMP:20260421T111858Z
SUMMARY:Après-midi soirée tarot
DESCRIPTION:Les Soirées et les Ateliers sont des moments conviviaux 
 et ludiques pour découvrir ensemble quelques-unes des « milles » f
 acettes des cartes, de l’approche et de la lecture du jeu de Tarot,
  proposés dans le plus grand respect de chacun. C’est une belle o
 ccasion pour ceux/celles qui le désir de recevoir une lecture de car
 tes.   Cette approche du Tarot ne lit pas l’avenir mais aide à p
 ercevoir ce qui se joue au travers de la question posée ou de la sit
 uation présentée.\nParticipation libre au chapeau...\n Pour en savo
 ir plus, cliquez ici...\n\nPour plus d'information, aller sur https://
 epanews.fr/events/apr-s-midi-soir-e-tarot
DTSTART;TZID=Europe/Paris:20170107T190000
DTEND;TZID=Europe/Paris:20170107T234500
CATEGORIES:91
LOCATION:Bures sur Yvette
WEBSITE:http://lasource.biodanza91.com/
URL:http://lasource.biodanza91.com/
CONTACT:
ORGANIZER;CN="Bénédicte Chamberland":https://epanews.fr/profile/Bene
 dicteChamberland
ATTACH;FMTTYPE="image/jpeg":http://storage.ning.com/topology/rest/1.0/
 file/get/1663620063?profile=original
ATTENDEE;ROLE=REQ-PARTICIPANT;PARTSTAT=ACCEPTED;RSVP=TRUE;CN="Bénédi
 cte Chamberland":https://epanews.fr/profile/BenedicteChamberland
END:VEVENT
END:VCALENDAR
