BEGIN:VCALENDAR
PRODID:NingEventWidget-v1
VERSION:2.0
METHOD:PUBLISH
BEGIN:VTIMEZONE
TZID:Europe/Paris
X-LIC-LOCATION:Europe/Paris
BEGIN:DAYLIGHT
TZOFFSETFROM:+0100
TZOFFSETTO:+0200
TZNAME:CEST
DTSTART:19700329T020000
RRULE:FREQ=YEARLY;BYMONTH=3;BYDAY=-1SU
END:DAYLIGHT
BEGIN:STANDARD
TZOFFSETFROM:+0200
TZOFFSETTO:+0100
TZNAME:CET
DTSTART:19701025T030000
RRULE:FREQ=YEARLY;BYMONTH=10;BYDAY=-1SU
END:STANDARD
END:VTIMEZONE
BEGIN:VEVENT
UID:2485226:Event:1677774
DTSTAMP:20260423T011934Z
SUMMARY:Après midi Porte ouverte
DESCRIPTION:14h-14h30\nTemps d’accueil et de bienvenue autour d’un
 e boisson chaude ou froide\n14h30-16h\nConférence de Laurent Jacot au
 tour du cas de Steve Jobs, fondateur d’Appel et Pixar, pour mettre e
 n exergue les apports innovants et spécifiques de son approche intég
 rative de la relation d’aide, suivie d’une Brève présentation de
  son nouveau cursus « L’Odyssée de Soi » 2014 d’ateliers et f
 ormations destinés aux particuliers et/ou parents et/ou professionnel
 s de la relation d’aide au sens large, éducateurs, enseignants, man
 agers, consultants, coachs, infirmier(e)s, aides soignant(e)s, thérap
 eutes…\n16h – 16h30\nPause partagée autour d’une boisson chaude
  ou froide et d’une part de galette. NB. Le Roi ou la Reine gagne un
 e journée de formation, le Sujet, 1/2 journée \n16h30-18h\nMini-séa
 nce de Kundalini Yoga et Méditation animée par Nicole Fléchon\nNous
  vous attendons nombreux pour lancer ensemble et de manière convivial
 e cette nouvelle année qui s’annonce magnifique !\nMerci d’avoir 
 la gentillesse nous envoyer un mail à contact@ulysse-formation.fr  (o
 u laurent.jacot@gmail.com), idéalement par retour de mail et au plus 
 tard le dimanche 5 janvier 2014, pour annoncer votre présence.\n \n\
 n\nPour plus d'information, aller sur https://epanews.fr/events/apr-s-
 midi-porte-ouverte
DTSTART;TZID=Europe/Paris:20140111T140000
DTEND;TZID=Europe/Paris:20140111T180000
CATEGORIES:84
LOCATION:Espace YogaïaVision
WEBSITE:http://laurentjacot.fr/2013/12/sam-11-janv-2014-14h-18h-apres-
 midi-porte-ouverte/
URL:http://laurentjacot.fr/2013/12/sam-11-janv-2014-14h-18h-apres-midi
 -porte-ouverte/
CONTACT:
ORGANIZER:Laurent JACOT
ATTACH;FMTTYPE="image/jpeg":
ATTENDEE;ROLE=REQ-PARTICIPANT;PARTSTAT=ACCEPTED;RSVP=TRUE;CN=Martine:h
 ttps://epanews.fr/profile/MartineGauthier
END:VEVENT
END:VCALENDAR
