BEGIN:VCALENDAR
PRODID:NingEventWidget-v1
VERSION:2.0
METHOD:PUBLISH
BEGIN:VTIMEZONE
TZID:Europe/Paris
X-LIC-LOCATION:Europe/Paris
BEGIN:DAYLIGHT
TZOFFSETFROM:+0100
TZOFFSETTO:+0200
TZNAME:CEST
DTSTART:19700329T020000
RRULE:FREQ=YEARLY;BYMONTH=3;BYDAY=-1SU
END:DAYLIGHT
BEGIN:STANDARD
TZOFFSETFROM:+0200
TZOFFSETTO:+0100
TZNAME:CET
DTSTART:19701025T030000
RRULE:FREQ=YEARLY;BYMONTH=10;BYDAY=-1SU
END:STANDARD
END:VTIMEZONE
BEGIN:VEVENT
UID:2485226:Event:2550481
DTSTAMP:20260421T143556Z
SUMMARY:Après l'intox, la détox
DESCRIPTION:Bonjour Chers Ami(es); les fêtes sont presque derrière n
 ous et j'espère que vous avez trouvé beaucoup de joie.Maintenant, il
  faut faire le ménage, et oui, aussi en ce qui concerne notre corps q
 ui est notre 1er allié.Aussi dans cet atelier, je proposerai des mani
 ères simples et économiques pour détoxifier notre organisme.J'insis
 terai particulièrement sur les différentes formes de jeûnes .C'est 
 une manière ancestrale pour équilibrer les excès. Pas d'inquiétude
 , notre corps supporte le manque, C'est notre mental qui en a peur.Si 
 l’humanité existe, c'est parce que justement elle peut faire face a
 ux périodes creuses en nourriture de tout genreà l'exception d'une s
 eule: l'AMOUR N'hésitez pas d’amener vos amis !en vous souhaitant u
 ne Année de grande Paixursulablog: jababa999.wordpress.com \n\nPour p
 lus d'information, aller sur https://epanews.fr/events/apr-s-l-intox-l
 a-d-tox
DTSTART;TZID=Europe/Paris:20160115T143000
DTEND;TZID=Europe/Paris:20160115T163000
CATEGORIES:75
LOCATION:Moulin à Café
WEBSITE:http://www.moulin-cafe.net
URL:http://www.moulin-cafe.net
CONTACT:0612065347
ORGANIZER;CN=lasur:https://epanews.fr/profile/lasur656
ATTACH;FMTTYPE="image/jpeg":http://storage.ning.com/topology/rest/1.0/
 file/get/1663509682?profile=original
ATTENDEE;ROLE=REQ-PARTICIPANT;PARTSTAT=ACCEPTED;RSVP=TRUE;CN=lasur:htt
 ps://epanews.fr/profile/lasur656
END:VEVENT
END:VCALENDAR
