BEGIN:VCALENDAR
PRODID:NingEventWidget-v1
VERSION:2.0
METHOD:PUBLISH
BEGIN:VTIMEZONE
TZID:Europe/Paris
X-LIC-LOCATION:Europe/Paris
BEGIN:DAYLIGHT
TZOFFSETFROM:+0100
TZOFFSETTO:+0200
TZNAME:CEST
DTSTART:19700329T020000
RRULE:FREQ=YEARLY;BYMONTH=3;BYDAY=-1SU
END:DAYLIGHT
BEGIN:STANDARD
TZOFFSETFROM:+0200
TZOFFSETTO:+0100
TZNAME:CET
DTSTART:19701025T030000
RRULE:FREQ=YEARLY;BYMONTH=10;BYDAY=-1SU
END:STANDARD
END:VTIMEZONE
BEGIN:VEVENT
UID:2485226:Event:469371
DTSTAMP:20260423T000534Z
SUMMARY:Approfondissement du Voyage Chamanique
DESCRIPTION:Pour nourrir le lien que vous avez établi avec votre anim
 al allié lors de l'initiation au Voyage Chamanique, un approfondisse
 ment  par des Voyages dans les Mondes du Dessous et dans la Forge vou
 s est proposé.\nTarif: 40€\n\nPour plus d'information, aller sur ht
 tps://epanews.fr/events/approfondissement-du-voyage-chamanique
DTSTART;TZID=Europe/Paris:20111009T130000
DTEND;TZID=Europe/Paris:20111009T170000
CATEGORIES:84
LOCATION:Avignon
WEBSITE:
URL:
CONTACT:04 90 90 39 30
ORGANIZER;CN="Nature Conscience Chamanisme":https://epanews.fr/profile
 /NatureConscienceChamanisme
ATTACH;FMTTYPE="image/jpeg":
ATTENDEE;ROLE=REQ-PARTICIPANT;PARTSTAT=ACCEPTED;RSVP=TRUE;CN="Nature C
 onscience Chamanisme":https://epanews.fr/profile/NatureConscienceChama
 nisme
END:VEVENT
END:VCALENDAR
