BEGIN:VCALENDAR
PRODID:NingEventWidget-v1
VERSION:2.0
METHOD:PUBLISH
BEGIN:VTIMEZONE
TZID:Europe/Paris
X-LIC-LOCATION:Europe/Paris
BEGIN:DAYLIGHT
TZOFFSETFROM:+0100
TZOFFSETTO:+0200
TZNAME:CEST
DTSTART:19700329T020000
RRULE:FREQ=YEARLY;BYMONTH=3;BYDAY=-1SU
END:DAYLIGHT
BEGIN:STANDARD
TZOFFSETFROM:+0200
TZOFFSETTO:+0100
TZNAME:CET
DTSTART:19701025T030000
RRULE:FREQ=YEARLY;BYMONTH=10;BYDAY=-1SU
END:STANDARD
END:VTIMEZONE
BEGIN:VEVENT
UID:2485226:Event:2276376
DTSTAMP:20260422T222320Z
SUMMARY:Apprentissage de Mantras
DESCRIPTION:Laissez-vous inonder par l'énergie et la force des mantra
 s indiens !\nAu beau milieu de toute cette agitation, profitez d'un m
 oment de détente et de reliance aux Vedas, textes sacrés de l'Inde a
 ncienne.\n Je vous propose une séance d'apprentissage de mantras, ce
 s phrases énergétiques qui permettent de se relier au divin par la v
 ibration du son.\nPlus précisément ceux transmis par le sage indien 
 Sri Tathâta.\n \nNous aurons à coeur de les chanter selon leur just
 e prononciation, considérée comme essentielle par la tradition.\nLa 
 séance se deroulera chez moi au 15 av de la Resistance mais le rdv se
 ra devant le cinéma \"Le Meliès\" M° Croix de Chavaux Ligne 9 sorti
 r en tête de train puis sortie : Centre commerciale N°3\n Au plaisi
 r de partager ce moment ensemble !!!\n \nParticipation libre\n\nClém
 ent\nASSOCIATION SOIF DE RYTHME\n \n \n\nPour plus d'information, al
 ler sur https://epanews.fr/events/apprentissage-de-mantras-6
DTSTART;TZID=Europe/Paris:20150401T193000
DTEND;TZID=Europe/Paris:20150401T210000
CATEGORIES:93
LOCATION:Montreuil
WEBSITE:
URL:
CONTACT:06 87 02 46 84
ORGANIZER;CN=musiqueclemennt:https://epanews.fr/profile/musiqueclemenn
 t
ATTACH;FMTTYPE="image/jpeg":http://storage.ning.com/topology/rest/1.0/
 file/get/1663361123?profile=original
ATTENDEE;ROLE=REQ-PARTICIPANT;PARTSTAT=ACCEPTED;RSVP=TRUE;CN=musiquecl
 emennt:https://epanews.fr/profile/musiqueclemennt
END:VEVENT
END:VCALENDAR
