BEGIN:VCALENDAR
PRODID:NingEventWidget-v1
VERSION:2.0
METHOD:PUBLISH
BEGIN:VTIMEZONE
TZID:Europe/Paris
X-LIC-LOCATION:Europe/Paris
BEGIN:DAYLIGHT
TZOFFSETFROM:+0100
TZOFFSETTO:+0200
TZNAME:CEST
DTSTART:19700329T020000
RRULE:FREQ=YEARLY;BYMONTH=3;BYDAY=-1SU
END:DAYLIGHT
BEGIN:STANDARD
TZOFFSETFROM:+0200
TZOFFSETTO:+0100
TZNAME:CET
DTSTART:19701025T030000
RRULE:FREQ=YEARLY;BYMONTH=10;BYDAY=-1SU
END:STANDARD
END:VTIMEZONE
BEGIN:VEVENT
UID:2485226:Event:1922336
DTSTAMP:20260422T040717Z
SUMMARY:Apprenez Ã  construireâ€‹ votre tambour chamanique en ArdÃ¨che
  !
DESCRIPTION:Â« Mon tambour mÃ©decine, cet ami intimeâ€¦Â» â€‹Ce stage 
 animÃ© par JoÃ«l LÃ©vÃªque se dÃ©roule au Village du Lac, l'Ã©quipe de
  \"PrÃ©sence Ã  soi et au monde\" nous accueille dans un environnement
  verdoyant, situÃ© sur le plateau ArdÃ©chois.  Construire un tambour e
 st un acte rituel et sacrÃ© qui demande de l'attention. Le tambour est
  un des outils chamaniques que l'on dÃ©sire acquÃ©rir en premier. Il e
 st beau, puissant, il chante, vibre et il a une Ã¢me. Il associe matiÃ
 ¨re et spiritualitÃ©. Il est utilisÃ© par pratiquement toutes les trad
 itions chamaniques, il permet de se relier aux Ã©lÃ©ments de l'univers
 . C'est un outil de guÃ©rison et de voyage, pour soi et pour les autre
 s. Une fois rÃ©alisÃ©, vous aurez la satisfaction d'avoir votre Â«tamb
 our mÃ©decineÂ». Votre tambour sera unique, il sera le fruit de votre 
 crÃ©ativitÃ©, de vos intentions profondes, il sera votre ami intime. L
 a construction du tambour est accompagnÃ©e de rituels sacrÃ©s, de voya
 ges chamaniques, comment charger son tambourâ€¦ Tambour traditionnel d
 'environ 40 cm de diamÃ¨tre avec cercle en frÃªne et peau de chÃ¨vre, 
 de bouc, de daim ou de cerf.\nPrix du stage 250â‚¬* + 2 jours en pensi
 on complÃ¨te (voir tarifs) http://www.presence-ardeche.com/h_bergement
 .html  * comprenant fourniture peau + cercle et prÃªt du matÃ©riel de 
 construction (+ 20 â‚¬ pour une peau de cerf)  Information et inscript
 ion : Joel LEVEQUE.  Nous prenons en compte votre inscription Ã  la rÃ
 ©ception de 100 â‚¬ d'arrhes Ã  l'ordre de l'association \"Autour des 
 Tambours\". En retour vous recevrez l'itinÃ©raire prÃ©cis pour accÃ©de
 r sur le lieu du stage ainsi qu'une petite liste d'affaires Ã  prÃ©voi
 r.\nAssociation \"Autour des tambours\" Mas Lafont 30170 CROS 06 80 46
  35 18\n https://www.facebook.com/autourdestambours\nhttp://www.joel-l
 eveque.com/#!juin-2014/cepg\nlevequejoel2005@yahoo.fr\n\nPour plus d'i
 nformation, aller sur https://epanews.fr/events/apprenez-construire-vo
 tre-tambour-chamanique-en-ard-che
DTSTART;TZID=Europe/Paris:20140620T160000
DTEND;TZID=Europe/Paris:20140622T170000
CATEGORIES:07
LOCATION:Village du Lac
WEBSITE:http://www.presence-ardeche.com/printemps_1.html
URL:http://www.presence-ardeche.com/printemps_1.html
CONTACT:06 80 46 35 18
ORGANIZER;CN=joel:https://epanews.fr/profile/joel495
ATTACH;FMTTYPE="image/jpeg":http://storage.ning.com/topology/rest/1.0/
 file/get/1663139272?profile=original
ATTENDEE;ROLE=REQ-PARTICIPANT;PARTSTAT=ACCEPTED;RSVP=TRUE;CN=joel:http
 s://epanews.fr/profile/joel495
END:VEVENT
END:VCALENDAR
