BEGIN:VCALENDAR
PRODID:NingEventWidget-v1
VERSION:2.0
METHOD:PUBLISH
BEGIN:VTIMEZONE
TZID:Europe/Paris
X-LIC-LOCATION:Europe/Paris
BEGIN:DAYLIGHT
TZOFFSETFROM:+0100
TZOFFSETTO:+0200
TZNAME:CEST
DTSTART:19700329T020000
RRULE:FREQ=YEARLY;BYMONTH=3;BYDAY=-1SU
END:DAYLIGHT
BEGIN:STANDARD
TZOFFSETFROM:+0200
TZOFFSETTO:+0100
TZNAME:CET
DTSTART:19701025T030000
RRULE:FREQ=YEARLY;BYMONTH=10;BYDAY=-1SU
END:STANDARD
END:VTIMEZONE
BEGIN:VEVENT
UID:2485226:Event:1808428
DTSTAMP:20260422T174435Z
SUMMARY:Modification demandée
DESCRIPTION:Les Apéros Zen\nPourquoi attendre d'aller mal pour aller 
 mieux ?  \nL'association Tous-en osmose organise chaque mois au sein 
 de la Maison du Bien-être un rendez-vous unique sur Annecy pour tous 
 les professionnels et les passionnés du bien-être ! \n\nVenez prend
 re un Apéro Zen* pour une vie plus saine Le 1er jeudi de chaque moi
 s à la Maison du Bien-être d'Annecy à partir de 19h\n\nEntrée grat
 uite : Sur Inscription à mdbe.annecy@gmail.com  Apéro tiré du sac
  (chacun ramène un petit truc à partager)\n* ATTENTION !! L'abus de
  bonheur est BON pour la Santé !!  \nLes prochains Apéros Zen :\n 
 Jeudi 6 mars 2014\n\n\nPour plus d'information, aller sur https://epan
 ews.fr/events/apero-zen
DTSTART;TZID=Europe/Paris:20140306T190000
DTEND;TZID=Europe/Paris:20140306T210000
CATEGORIES:74
LOCATION:Maison du Bien-être d'Annecy
WEBSITE:http://maison-du-bien-etre-annecy.blogspot.fr/p/contact.html
URL:http://maison-du-bien-etre-annecy.blogspot.fr/p/contact.html
CONTACT:0661036030
ORGANIZER:Sylviane ARNOUX - Association Tous en Osmose
ATTACH;FMTTYPE="image/jpeg":http://storage.ning.com/topology/rest/1.0/
 file/get/1663076454?profile=original
ATTENDEE;ROLE=REQ-PARTICIPANT;PARTSTAT=ACCEPTED;RSVP=TRUE;CN="Sylviane
  ARNOUX":https://epanews.fr/profile/Syleane
END:VEVENT
END:VCALENDAR
