BEGIN:VCALENDAR
PRODID:NingEventWidget-v1
VERSION:2.0
METHOD:PUBLISH
BEGIN:VTIMEZONE
TZID:Europe/Paris
X-LIC-LOCATION:Europe/Paris
BEGIN:DAYLIGHT
TZOFFSETFROM:+0100
TZOFFSETTO:+0200
TZNAME:CEST
DTSTART:19700329T020000
RRULE:FREQ=YEARLY;BYMONTH=3;BYDAY=-1SU
END:DAYLIGHT
BEGIN:STANDARD
TZOFFSETFROM:+0200
TZOFFSETTO:+0100
TZNAME:CET
DTSTART:19701025T030000
RRULE:FREQ=YEARLY;BYMONTH=10;BYDAY=-1SU
END:STANDARD
END:VTIMEZONE
BEGIN:VEVENT
UID:2485226:Event:195436
DTSTAMP:20260420T204212Z
SUMMARY:ApÃ©ro - Rencontre - Discussion 
DESCRIPTION:\n\n\n\nÂ Â Â Â Â Â Â Â Â Â Â Â Â Â Â Â Â Â Â Â  VENDREDI 
 4 FÃ©vrierÂ  19H00Apero - RENCONTRE Conviviale - groupe de discussion 
 .A deux pas de L'institut du monde Arabe .Le Romantisme Manque-t- il d
 ans notre vie ...?autour de cette idÃ©e aussi avec vos idÃ©es venez vo
 us vos exprimer , et parler selon vos souhaits et librement sur les ch
 oses de La Vie les relations ,le bonheur la solitude l' amour l'amitiÃ
 © .. etc , et on va conclure ensemble l'idÃ©e de cette soirÃ©e ..Rdv D
 ans une salle rÃ©servÃ©e pour nous , autour de boissons chaudes ou fro
 ides , alcoolisÃ©es ou non , dans une ambiance amicale , nous allons A
 ussi de se rencontrer faire mieux connaissance ....Â  et rencontrer de
 s nouvelles personnesPour ceux qui le souhaitent , ils pourront rester
  diner sur place avec un menu Ã  la carte au choix entre 14 et 18 euro
 s ( galette berbÃ¨re et sa salade , couscous tagine , mÃ©choui et merg
 uez ou une assiette vÃ©gÃ©tarienne ... )soirÃ©e organisÃ©e par Raouf Ã
 ©crivain de proche orient qui aura le plaisir de vous rencontrerBien C
 ordialement\n\n\n\n\n\n\n\n\n\n\nLe Rendez-Vous\n\n Point de Rendez-Vo
 us : \nRDV au restaurant La FERME ( restaurant - espace culturel ) 16 
 Rue des FossÃ©s - Saint- Bernard 75005 Paris  mÃ©tro Jussieu\nrÃ©serva
 tion auprÃ¨s de Raouf par e-mail ou par sms au Â  0610553761Â  ...Â Â 
  au cas de rÃ©servation merci de laisser votre NÂ° portable ..Â Â Â  C
 ordialement Â  Raouf\n\n\n\n\n\n\n\n\n\n\n\n\nPour plus d'information,
  aller sur https://epanews.fr/events/apero-rencontre-discussion
DTSTART;TZID=Europe/Paris:20110204T190000
DTEND;TZID=Europe/Paris:20110204T220000
CATEGORIES:75005, paris
LOCATION:paris
WEBSITE:
URL:
CONTACT:0610553761
ORGANIZER;CN=raouf:https://epanews.fr/profile/raouf
ATTACH;FMTTYPE="image/jpeg":
ATTENDEE;ROLE=REQ-PARTICIPANT;PARTSTAT=ACCEPTED;RSVP=TRUE;CN=raouf:htt
 ps://epanews.fr/profile/raouf
END:VEVENT
END:VCALENDAR
