BEGIN:VCALENDAR
PRODID:NingEventWidget-v1
VERSION:2.0
METHOD:PUBLISH
BEGIN:VTIMEZONE
TZID:Europe/Paris
X-LIC-LOCATION:Europe/Paris
BEGIN:DAYLIGHT
TZOFFSETFROM:+0100
TZOFFSETTO:+0200
TZNAME:CEST
DTSTART:19700329T020000
RRULE:FREQ=YEARLY;BYMONTH=3;BYDAY=-1SU
END:DAYLIGHT
BEGIN:STANDARD
TZOFFSETFROM:+0200
TZOFFSETTO:+0100
TZNAME:CET
DTSTART:19701025T030000
RRULE:FREQ=YEARLY;BYMONTH=10;BYDAY=-1SU
END:STANDARD
END:VTIMEZONE
BEGIN:VEVENT
UID:2485226:Event:2345511
DTSTAMP:20260423T162128Z
SUMMARY:apéro-nu festif
DESCRIPTION:Je vous invite à une rencontre apéro-nu sur la plage de 
 Piémançon ( Salins de Giraud) le samedi 4/07 vers 18h. Apportez des 
 glacières, de quoi manger ( on partagera ), du bois si possible pour 
 faire un beau feu de camp dans la soirée. Musiciens venez avec vos in
 struments...Pensez à porter une tente ou un duvet on peux dormir sur 
 la plage;-) Pour plus d'infos et, pour vous inscrire n'hésitez pas à
  me contacter : 0666093988A bientôt;-)\n\nPour plus d'information, al
 ler sur https://epanews.fr/events/ap-ro-nu-festif
DTSTART;TZID=Europe/Paris:20150704T180000
DTEND;TZID=Europe/Paris:20150705T120000
CATEGORIES:13
LOCATION:plage de Piémançon Salins de Giraud
WEBSITE:
URL:
CONTACT:0666093988
ORGANIZER;CN=nuereve:https://epanews.fr/profile/nuereve
ATTACH;FMTTYPE="image/jpeg":http://storage.ning.com/topology/rest/1.0/
 file/get/1663409498?profile=original
ATTENDEE;ROLE=REQ-PARTICIPANT;PARTSTAT=ACCEPTED;RSVP=TRUE;CN=nuereve:h
 ttps://epanews.fr/profile/nuereve
END:VEVENT
END:VCALENDAR
