BEGIN:VCALENDAR
PRODID:NingEventWidget-v1
VERSION:2.0
METHOD:PUBLISH
BEGIN:VTIMEZONE
TZID:Europe/Paris
X-LIC-LOCATION:Europe/Paris
BEGIN:DAYLIGHT
TZOFFSETFROM:+0100
TZOFFSETTO:+0200
TZNAME:CEST
DTSTART:19700329T020000
RRULE:FREQ=YEARLY;BYMONTH=3;BYDAY=-1SU
END:DAYLIGHT
BEGIN:STANDARD
TZOFFSETFROM:+0200
TZOFFSETTO:+0100
TZNAME:CET
DTSTART:19701025T030000
RRULE:FREQ=YEARLY;BYMONTH=10;BYDAY=-1SU
END:STANDARD
END:VTIMEZONE
BEGIN:VEVENT
UID:2485226:Event:1137880
DTSTAMP:20260423T092127Z
SUMMARY:Apéritif découverte du coaching
DESCRIPTION:La tournée du coaching (3/4)\n \nVous aimeriez changer q
 uelque chose dans votre vie, sans savoir comment ...tout en respectant
  votre rythme ? Laissez-vous inviter à la découverte du coaching hum
 aniste : il accompagne en douceur vos transformations.\n \nRencontrez
  une partie de l'équipe de Coach pour moi : ces passionnés, professi
 onnels, vous expliquent, témoignages concrets à l'appui, ce qu'ils
  pourront vous apporter lors de la \"journée du coaching\" du 9 févr
 ier.\n \nQuelque soit votre désir d'évolution, il y a un coach pour
  vous.\n \nEt c'est l'heure de l'apéritif, ce qui ne gâche rien !\n
  \nAvec Carine DOGNIN, Frédéric COMBE, Olivier RAYNAL BENOIT, Ph
 ilippe OUALI, Valérie WEIDMANN, Jean-François MASSON, coachs\n \n
 Pratique\nLattes ( BF formation, résidence Le Guilhem, près des bure
 aux de Lattes Loisirs et culture, et du centre Le Louxor : Port Arian
 ne, 5 rue des Chevaliers de Malte, 34970 LATTES).\n  .Gratuit  ..Inf
 os & contact :  www.coachpourmoi.com/ \n \n \n\nPour plus d'inform
 ation, aller sur https://epanews.fr/events/ap-ritif-d-couverte-du-coac
 hing
DTSTART;TZID=Europe/Paris:20130201T190000
DTEND;TZID=Europe/Paris:20130201T220000
CATEGORIES:34
LOCATION:BF Formation
WEBSITE:http://happyplanete.org/evenement-170.html
URL:http://happyplanete.org/evenement-170.html
CONTACT:06.32.08.51.58
ORGANIZER:Association HappyPlanete
ATTACH;FMTTYPE="image/jpeg":http://storage.ning.com/topology/rest/1.0/
 file/get/1662743899?profile=original
ATTENDEE;ROLE=REQ-PARTICIPANT;PARTSTAT=ACCEPTED;RSVP=TRUE;CN="Sophie v
 db":https://epanews.fr/profile/Sophievdb
END:VEVENT
END:VCALENDAR
