BEGIN:VCALENDAR
PRODID:NingEventWidget-v1
VERSION:2.0
METHOD:PUBLISH
BEGIN:VTIMEZONE
TZID:Europe/Paris
X-LIC-LOCATION:Europe/Paris
BEGIN:DAYLIGHT
TZOFFSETFROM:+0100
TZOFFSETTO:+0200
TZNAME:CEST
DTSTART:19700329T020000
RRULE:FREQ=YEARLY;BYMONTH=3;BYDAY=-1SU
END:DAYLIGHT
BEGIN:STANDARD
TZOFFSETFROM:+0200
TZOFFSETTO:+0100
TZNAME:CET
DTSTART:19701025T030000
RRULE:FREQ=YEARLY;BYMONTH=10;BYDAY=-1SU
END:STANDARD
END:VTIMEZONE
BEGIN:VEVENT
UID:2485226:Event:2110223
DTSTAMP:20260422T204958Z
SUMMARY:Animations et cartes cadeau de l'Espace Ki-Zen au salon Natur'
 Essence
DESCRIPTION:Je serais heureux de vous retrouver sur le stand de l'Espa
 ce Ki-Zen lors du salon Bio-Bien-Etre-Thérapies-Développement person
 nel de St Cannat, du 22 au 24 novembre 2014.  Je vous proposerai des m
 inis conférences autour du Reiki et autres pratiques énergétiques, 
 des démonstrations de Reiki, mais aussi de massage intuitif zen aux h
 uiles essentielles ou au Monoï fleur de Tiaré/Mille fleurs. Ça sera
  l'occasion d'amorcer la création de groupes d'échanges de soins én
 ergétiques ou de massages, afin de programmer des échanges régulier
 s à l'Espace Ki-Zen dès janvier 2015 !  Et si vous êtes à la reche
 rche d'idées originales pour vos cadeaux de Noël, les \"cartes cadea
 ux de Noël\" de l'Espace Ki-Zen seront en vente sur le stand !  Faite
 s plaisir à vos proches et aux personnes que vous aimez, et pensez à
  leur Bien-Être en leur offrant des soins d'harmonisation énergétiq
 ue ou des massages intuitifs Zen aux huiles essentielles ou au Monoï 
 fleur de Tiaré/Mille fleurs.  Pour les tarifs et les compléments d'i
 nformation, merci de me contacter par mail, téléphone ou MP  Patrick
  Labataille, Tel 06.22.07.16.10, email : kizen13330@gmail.com\n\nPour 
 plus d'information, aller sur https://epanews.fr/events/animations-et-
 cartes-cadeau-de-l-espace-ki-zen-au-salon-natur
DTSTART;TZID=Europe/Paris:20141122T100000
DTEND;TZID=Europe/Paris:20141124T190000
CATEGORIES:13
LOCATION:Aixagone
WEBSITE:
URL:
CONTACT:06.22.07.16.10
ORGANIZER;CN="Espace Ki-Zen":https://epanews.fr/profile/EspaceKiZen
ATTACH;FMTTYPE="image/jpeg":http://storage.ning.com/topology/rest/1.0/
 file/get/1663246328?profile=original
ATTENDEE;ROLE=REQ-PARTICIPANT;PARTSTAT=ACCEPTED;RSVP=TRUE;CN=camille20
 12:https://epanews.fr/profile/camille2012
ATTENDEE;ROLE=REQ-PARTICIPANT;PARTSTAT=ACCEPTED;RSVP=TRUE;CN=jade:http
 s://epanews.fr/profile/RoseMarieBastardis
ATTENDEE;ROLE=REQ-PARTICIPANT;PARTSTAT=ACCEPTED;RSVP=TRUE;CN="Espace K
 i-Zen":https://epanews.fr/profile/EspaceKiZen
END:VEVENT
END:VCALENDAR
