BEGIN:VCALENDAR
PRODID:NingEventWidget-v1
VERSION:2.0
METHOD:PUBLISH
BEGIN:VTIMEZONE
TZID:Europe/Paris
X-LIC-LOCATION:Europe/Paris
BEGIN:DAYLIGHT
TZOFFSETFROM:+0100
TZOFFSETTO:+0200
TZNAME:CEST
DTSTART:19700329T020000
RRULE:FREQ=YEARLY;BYMONTH=3;BYDAY=-1SU
END:DAYLIGHT
BEGIN:STANDARD
TZOFFSETFROM:+0200
TZOFFSETTO:+0100
TZNAME:CET
DTSTART:19701025T030000
RRULE:FREQ=YEARLY;BYMONTH=10;BYDAY=-1SU
END:STANDARD
END:VTIMEZONE
BEGIN:VEVENT
UID:2485226:Event:3054465
DTSTAMP:20260420T235733Z
SUMMARY:animation danse
DESCRIPTION:Bonjour, Je propose Dimanche 2 Fevrier  de 10 a 12h une A
 nimation danse chez Stéphanie Coll , 9 Quai Vauban a Sete. Le concept
   est simple :  Danser pour le plaisir de danser sur des morceaux de
  musique sélectionnés par moi meme. Au plaisir donc de nous Retrouv'
 Ames! ps une participation libre et en consciente est la Bienvenue pou
 r m'aider a couvrir frais de la location de la salle et m'encourager d
 ans le déroule de l'atelier! Merci!\ninscription  pascalinesete@gmail
 .com 06 07 89 11 64\n\nPour plus d'information, aller sur https://epan
 ews.fr/events/animation-danse
DTSTART;TZID=Europe/Paris:20200202T100000
DTEND;TZID=Europe/Paris:20200202T110000
CATEGORIES:34200
LOCATION:9 Quai Vauban 34200 Sete
WEBSITE:
URL:
CONTACT:06 0 7 89 11 64
ORGANIZER;CN="mona lisa 34":https://epanews.fr/profile/pascaleruggiero
ATTACH;FMTTYPE="image/jpeg":
ATTENDEE;ROLE=REQ-PARTICIPANT;PARTSTAT=ACCEPTED;RSVP=TRUE;CN="mona lis
 a 34":https://epanews.fr/profile/pascaleruggiero
END:VEVENT
END:VCALENDAR
