BEGIN:VCALENDAR
PRODID:NingEventWidget-v1
VERSION:2.0
METHOD:PUBLISH
BEGIN:VTIMEZONE
TZID:Europe/Paris
X-LIC-LOCATION:Europe/Paris
BEGIN:DAYLIGHT
TZOFFSETFROM:+0100
TZOFFSETTO:+0200
TZNAME:CEST
DTSTART:19700329T020000
RRULE:FREQ=YEARLY;BYMONTH=3;BYDAY=-1SU
END:DAYLIGHT
BEGIN:STANDARD
TZOFFSETFROM:+0200
TZOFFSETTO:+0100
TZNAME:CET
DTSTART:19701025T030000
RRULE:FREQ=YEARLY;BYMONTH=10;BYDAY=-1SU
END:STANDARD
END:VTIMEZONE
BEGIN:VEVENT
UID:2485226:Event:1417325
DTSTAMP:20260421T083513Z
SUMMARY:Amour, dÃ©sir et relation
DESCRIPTION:AvecÂ Carmen Garcia ENGUITA, psychothÃ©rapeute\nEtÂ Michel
  RIU, professeur de yoga\n\nAtelier homme/femme\nComment l'Ã©veil de m
 es sens me connecte-t-il Ã  ma sensualitÃ©, Ã  l'expression de l'amour
 Â en moi et avec l'autre ?\nPour Michel et Carmen, le dÃ©sir de vie, a
 ux antipodes du dÃ©sir-objet, est d'abord dÃ©sir d'amour.\nÂ \nBeaucou
 p de traditions (Tantrisme, TaoÃ¯sme, Alchimie, Chamanisme....) dÃ©vel
 oppent une recherche de l'UnitÃ©, du Divin Ã  travers la pratique sexu
 elle. Plus nous sommes conscients que notre Ã©nergie sexuelle est Ã©ne
 rgie d'amour, plus nous accÃ©donsÂ Ã  cette expÃ©rience d'unitÃ©.\nA t
 ravers des mises en situation, cette confÃ©rence/atelier va nous perme
 ttre de cultiver le plaisir, combustible nourrissant notre dÃ©sir.\nÂ 
 \nQuand nous sommes dÃ©sirant, nous sommes la vie, nous rayonnons l'am
 our...Nous pouvons nous dÃ©tendre...Vivre l'instant...et attirer Ã  no
 us ce qui est juste !\nÂ \nÂ Pratique\n.LieuÂ : Centre ArtYoga, 13 Rue
  Roudil, 34000 Montpellier ..TarifsÂ : public : 6 â‚¬ | adhÃ©rent et r
 Ã©duit : 4 â‚¬\nÂ \nA savoirÂ :\nCollation Ã  l'issue\nÂ \nAccÃ¨s\nPrÃ
 ©voyez un peu de temps car le stationnement est difficile dans les rue
 lles. PrÃ©fÃ©rez l'avenue Georges CLEMENCEAU ou le boulevard RENOUVIER
 . La salle est moquettÃ©e, le dÃ©chaussement est requis Ã  l'entrÃ©e.\
 nÂ \nContact du lieu\nMichel RIU : 06 74 63 73 32\n\nPlus dâ€™informat
 ions sur notre site internetÂ : http://www.happyplanete.org/evenement-
 194.html\n\nPour plus d'information, aller sur https://epanews.fr/even
 ts/amour-d-sir-et-relation
DTSTART;TZID=Europe/Paris:20130620T194500
DTEND;TZID=Europe/Paris:20130620T223000
CATEGORIES:34
LOCATION:Centre ArtYoga
WEBSITE:http://www.happyplanete.org/evenement-194.html
URL:http://www.happyplanete.org/evenement-194.html
CONTACT:06 74 63 73 32
ORGANIZER:Association Happy Planete
ATTACH;FMTTYPE="image/jpeg":http://storage.ning.com/topology/rest/1.0/
 file/get/1662867411?profile=original
ATTENDEE;ROLE=REQ-PARTICIPANT;PARTSTAT=ACCEPTED;RSVP=TRUE;CN="Sophie v
 db":https://epanews.fr/profile/Sophievdb
END:VEVENT
END:VCALENDAR
