BEGIN:VCALENDAR
PRODID:NingEventWidget-v1
VERSION:2.0
METHOD:PUBLISH
BEGIN:VTIMEZONE
TZID:Europe/Paris
X-LIC-LOCATION:Europe/Paris
BEGIN:DAYLIGHT
TZOFFSETFROM:+0100
TZOFFSETTO:+0200
TZNAME:CEST
DTSTART:19700329T020000
RRULE:FREQ=YEARLY;BYMONTH=3;BYDAY=-1SU
END:DAYLIGHT
BEGIN:STANDARD
TZOFFSETFROM:+0200
TZOFFSETTO:+0100
TZNAME:CET
DTSTART:19701025T030000
RRULE:FREQ=YEARLY;BYMONTH=10;BYDAY=-1SU
END:STANDARD
END:VTIMEZONE
BEGIN:VEVENT
UID:2485226:Event:74244
DTSTAMP:20260420T073216Z
SUMMARY:Amma • Cérémonie du Darshan • Toulon
DESCRIPTION:Amma propose une accolade (darshan) à chaque personne qui
  le souhaite. Des milliers de personnes viennent à chacune de ses vis
 ites en France. Participation libre.\n\nPour plus d'information, aller
  sur https://epanews.fr/events/amma-ceremonie-du-darshan-1
DTSTART;TZID=Europe/Paris:20101102T000000
DTEND;TZID=Europe/Paris:20101104T235900
CATEGORIES:tous
LOCATION:Zénith Oméga
WEBSITE:http://amma-europe.org
URL:http://amma-europe.org
CONTACT:04 42 01 31 97
ORGANIZER:Le Centre Amma
ATTACH;FMTTYPE="image/jpeg":http://storage.ning.com/topology/rest/1.0/
 file/get/1662310526?profile=original
ATTENDEE;ROLE=REQ-PARTICIPANT;PARTSTAT=ACCEPTED;RSVP=TRUE;CN=valérie:
 https://epanews.fr/profile/valerie809
ATTENDEE;ROLE=REQ-PARTICIPANT;PARTSTAT=ACCEPTED;RSVP=TRUE;CN="Mme Bér
 os Boué Dominique":https://epanews.fr/profile/MmeBerosBoueDominique
ATTENDEE;ROLE=REQ-PARTICIPANT;PARTSTAT=ACCEPTED;RSVP=TRUE;CN="Bezard s
 abryna":https://epanews.fr/profile/Bezardsabryna
ATTENDEE;ROLE=REQ-PARTICIPANT;PARTSTAT=ACCEPTED;RSVP=TRUE;CN=nathalie:
 https://epanews.fr/profile/nathalie
ATTENDEE;ROLE=REQ-PARTICIPANT;PARTSTAT=ACCEPTED;RSVP=TRUE;CN="arc en c
 iel":https://epanews.fr/profile/arcenciel
ATTENDEE;ROLE=REQ-PARTICIPANT;PARTSTAT=ACCEPTED;RSVP=TRUE;CN="Françoi
 s Casteras":https://epanews.fr/profile/FrancoisCasteras
ATTENDEE;ROLE=REQ-PARTICIPANT;PARTSTAT=ACCEPTED;RSVP=TRUE;CN="Samuel T
 atin":https://epanews.fr/profile/Tatinsamuel
ATTENDEE;ROLE=REQ-PARTICIPANT;PARTSTAT=ACCEPTED;RSVP=TRUE;CN=Sandra:ht
 tps://epanews.fr/profile/Sandrala
ATTENDEE;ROLE=REQ-PARTICIPANT;PARTSTAT=ACCEPTED;RSVP=TRUE;CN="Yin yang
 ":https://epanews.fr/profile/BrigitteDravet
ATTENDEE;ROLE=REQ-PARTICIPANT;PARTSTAT=ACCEPTED;RSVP=TRUE;CN=martine:h
 ttps://epanews.fr/profile/martinefreeman
ATTENDEE;ROLE=REQ-PARTICIPANT;PARTSTAT=ACCEPTED;RSVP=TRUE;CN=Roselyne:
 https://epanews.fr/profile/Roselyne
ATTENDEE;ROLE=REQ-PARTICIPANT;PARTSTAT=ACCEPTED;RSVP=TRUE;CN=florence:
 https://epanews.fr/profile/DUBROCHE
ATTENDEE;ROLE=REQ-PARTICIPANT;PARTSTAT=ACCEPTED;RSVP=TRUE;CN="Eric Beh
 oteguy Hypno-Magnétisme":https://epanews.fr/profile/EricBehoteguy
ATTENDEE;ROLE=REQ-PARTICIPANT;PARTSTAT=ACCEPTED;RSVP=TRUE;CN="nanylys(
 reiki 3)":https://epanews.fr/profile/nanylyswanadoofr
ATTENDEE;ROLE=REQ-PARTICIPANT;PARTSTAT=ACCEPTED;RSVP=TRUE;CN="neuray c
 arole":https://epanews.fr/profile/neuraycarole
ATTENDEE;ROLE=REQ-PARTICIPANT;PARTSTAT=ACCEPTED;RSVP=TRUE;CN=Muriel:ht
 tps://epanews.fr/profile/Muriel
ATTENDEE;ROLE=REQ-PARTICIPANT;PARTSTAT=ACCEPTED;RSVP=TRUE;CN=AMBRE:htt
 ps://epanews.fr/profile/AMBRE721
ATTENDEE;ROLE=REQ-PARTICIPANT;PARTSTAT=ACCEPTED;RSVP=TRUE;CN="biotom83
  (Thomas Voisin)":https://epanews.fr/profile/biotom84
ATTENDEE;ROLE=REQ-PARTICIPANT;PARTSTAT=ACCEPTED;RSVP=TRUE;CN="caradonn
 a serge":https://epanews.fr/profile/caradonnaserge
ATTENDEE;ROLE=REQ-PARTICIPANT;PARTSTAT=ACCEPTED;RSVP=TRUE;CN="alain ll
 oria":https://epanews.fr/profile/alainlloria
ATTENDEE;ROLE=REQ-PARTICIPANT;PARTSTAT=ACCEPTED;RSVP=TRUE;CN=Martine:h
 ttps://epanews.fr/profile/Martine510
ATTENDEE;ROLE=REQ-PARTICIPANT;PARTSTAT=ACCEPTED;RSVP=TRUE;CN=celine:ht
 tps://epanews.fr/profile/celine275
ATTENDEE;ROLE=REQ-PARTICIPANT;PARTSTAT=ACCEPTED;RSVP=TRUE;CN="bonnette
  jocelyne":https://epanews.fr/profile/bonnettejocelyne
ATTENDEE;ROLE=REQ-PARTICIPANT;PARTSTAT=ACCEPTED;RSVP=TRUE;CN=joelle:ht
 tps://epanews.fr/profile/joellespisso
ATTENDEE;ROLE=REQ-PARTICIPANT;PARTSTAT=ACCEPTED;RSVP=TRUE;CN=Florence:
 https://epanews.fr/profile/Florence530
ATTENDEE;ROLE=REQ-PARTICIPANT;PARTSTAT=ACCEPTED;RSVP=TRUE;CN=feline5:h
 ttps://epanews.fr/profile/feline5
ATTENDEE;ROLE=REQ-PARTICIPANT;PARTSTAT=ACCEPTED;RSVP=TRUE;CN=Faerwinde
 l:https://epanews.fr/profile/Faerwindel
ATTENDEE;ROLE=REQ-PARTICIPANT;PARTSTAT=ACCEPTED;RSVP=TRUE;CN=papillon:
 https://epanews.fr/profile/papillon
ATTENDEE;ROLE=REQ-PARTICIPANT;PARTSTAT=ACCEPTED;RSVP=TRUE;CN="françoi
 se, association Ana'ag":https://epanews.fr/profile/francoiseassociatio
 nAnaag
ATTENDEE;ROLE=REQ-PARTICIPANT;PARTSTAT=ACCEPTED;RSVP=TRUE;CN=Michèle:
 https://epanews.fr/profile/Michele
ATTENDEE;ROLE=REQ-PARTICIPANT;PARTSTAT=ACCEPTED;RSVP=TRUE;CN="Marie Ra
 phaele Vanuxem":https://epanews.fr/profile/MarieRaphaeleVanuxem
ATTENDEE;ROLE=REQ-PARTICIPANT;PARTSTAT=ACCEPTED;RSVP=TRUE;CN=Presence:
 https://epanews.fr/profile/Presence
ATTENDEE;ROLE=REQ-PARTICIPANT;PARTSTAT=ACCEPTED;RSVP=TRUE;CN=Shanti:ht
 tps://epanews.fr/profile/Shanti
ATTENDEE;ROLE=REQ-PARTICIPANT;PARTSTAT=TENTATIVE;RSVP=TRUE;CN=Sybil:ht
 tps://epanews.fr/profile/Sybil
ATTENDEE;ROLE=REQ-PARTICIPANT;PARTSTAT=TENTATIVE;RSVP=TRUE;CN=kimimela
 :https://epanews.fr/profile/kimimela
ATTENDEE;ROLE=REQ-PARTICIPANT;PARTSTAT=TENTATIVE;RSVP=TRUE;CN=Ambroise
 :https://epanews.fr/profile/Ambroise
ATTENDEE;ROLE=REQ-PARTICIPANT;PARTSTAT=TENTATIVE;RSVP=TRUE;CN=Marie-Do
 -Eliéra:https://epanews.fr/profile/MarieDominiqueGrasset
ATTENDEE;ROLE=REQ-PARTICIPANT;PARTSTAT=TENTATIVE;RSVP=TRUE;CN="LAURE G
 ARLIN":https://epanews.fr/profile/LaureGarlin
ATTENDEE;ROLE=REQ-PARTICIPANT;PARTSTAT=TENTATIVE;RSVP=TRUE;CN="magali 
 noiret-corps en mouvement":https://epanews.fr/profile/Associationcorps
 enmouvement
ATTENDEE;ROLE=REQ-PARTICIPANT;PARTSTAT=TENTATIVE;RSVP=TRUE;CN=Véroniq
 ue:https://epanews.fr/profile/TEUMA
ATTENDEE;ROLE=REQ-PARTICIPANT;PARTSTAT=TENTATIVE;RSVP=TRUE;CN=kalie:ht
 tps://epanews.fr/profile/kalie
ATTENDEE;ROLE=REQ-PARTICIPANT;PARTSTAT=TENTATIVE;RSVP=TRUE;CN="ipotesi
  Ch.":https://epanews.fr/profile/ipotesi
ATTENDEE;ROLE=REQ-PARTICIPANT;PARTSTAT=TENTATIVE;RSVP=TRUE;CN=épanews
 :https://epanews.fr/profile/association_epanews
END:VEVENT
END:VCALENDAR
